BEGIN:VCALENDAR
PRODID:NingEventWidget-v1
VERSION:2.0
METHOD:PUBLISH
BEGIN:VTIMEZONE
TZID:Europe/Vienna
X-LIC-LOCATION:Europe/Vienna
BEGIN:DAYLIGHT
TZOFFSETFROM:+0100
TZOFFSETTO:+0200
TZNAME:CEST
DTSTART:19700329T020000
RRULE:FREQ=YEARLY;BYMONTH=3;BYDAY=-1SU
END:DAYLIGHT
BEGIN:STANDARD
TZOFFSETFROM:+0200
TZOFFSETTO:+0100
TZNAME:CET
DTSTART:19701025T030000
RRULE:FREQ=YEARLY;BYMONTH=10;BYDAY=-1SU
END:STANDARD
END:VTIMEZONE
BEGIN:VEVENT
UID:6444107:Event:44514
DTSTAMP:20260423T001109Z
SUMMARY:26. Unteracher Kunsthandwerkermarkt
DESCRIPTION:Der Tourismusverein Unterach veranstaltet bereits zum 26. 
 Mal diesen Markt mit Kunsthandwerkern und freischaffenden Künstlern a
 us den Bereichen Keramik, Porzellan, Glas, Schmuck, Holz, Metall, Text
 iles,… An beiden Tagen werden stimmungsvolle Livemusik und tolle Sho
 wacts geboten. Für die kleinen Besucher bieten die Kinderfreunde Salz
 kammergut mit Kinderschminken und Basteln kreative Unterhaltung. Stelz
 engeher und ein Karikaturist runden das großartige Rahmenprogramm ab.
  Wir freuen uns auf Ihre Teilnahme.\nSamstag 13:00 - 21:00 Sonntag  9
 :00 - 17:00\nattersee.salzkammergut.at\n\nWeitere Informationen erhalt
 en Sie unter http://kunsthandwerk.artbeat.at/events/26-unteracher-kuns
 thandwerkermarkt
DTSTART;TZID=Europe/Vienna:20170701T130000
DTEND;TZID=Europe/Vienna:20170702T170000
CATEGORIES:kunsthandwerksmarkt
LOCATION:Salzkammergut, Attersee
WEBSITE:http://www.attersee.at
URL:http://www.attersee.at
CONTACT:+43(0)7665-8327 - info.unterach(at)attersee.at
ORGANIZER:Tourismusverein Unterach am Attersee
ATTACH;FMTTYPE="image/jpeg":http://storage.ning.com/topology/rest/1.0/
 file/get/122588046?profile=original
ATTENDEE;ROLE=REQ-PARTICIPANT;PARTSTAT=ACCEPTED;RSVP=TRUE;CN=artbeat:h
 ttp://kunsthandwerk.artbeat.at/profile/04jn571ett22n
END:VEVENT
END:VCALENDAR
