BEGIN:VCALENDAR
PRODID:NingEventWidget-v1
VERSION:2.0
METHOD:PUBLISH
BEGIN:VTIMEZONE
TZID:Europe/Vienna
X-LIC-LOCATION:Europe/Vienna
BEGIN:DAYLIGHT
TZOFFSETFROM:+0100
TZOFFSETTO:+0200
TZNAME:CEST
DTSTART:19700329T020000
RRULE:FREQ=YEARLY;BYMONTH=3;BYDAY=-1SU
END:DAYLIGHT
BEGIN:STANDARD
TZOFFSETFROM:+0200
TZOFFSETTO:+0100
TZNAME:CET
DTSTART:19701025T030000
RRULE:FREQ=YEARLY;BYMONTH=10;BYDAY=-1SU
END:STANDARD
END:VTIMEZONE
BEGIN:VEVENT
UID:6444107:Event:307
DTSTAMP:20260423T081424Z
SUMMARY:3. Kunsthandwerksmarkt St. Gilgen
DESCRIPTION:In St. Gilgen/Seepark am malerischen Wolfgangsee findet he
 uer der bereits 3. Kunsthandwerksmarkt St. Gilgen statt.Es finden sich
  wieder das bunte Volk von über 70 kreativen Kunsthandwerkern aus dem
  In- und Ausland ein und bieten am neugestaltenden Seepark ihre indivi
 duell und handwerklich hervorragenden Produkte aus Glas, Holz, Keramik
 , Metall, Papier, Schmuck und Textilem an, aber auch Maler und Bildhau
 er sind vor Ort. Dieser Markt trägt den Wunsch großer Teile der Bev
 ölkerung Rechnung nach eigenständigen, in liebevoller Handarbeit erz
 eugten Einzelprodukten. Der große Besucherandrang der ersten beiden J
 ahre zeugt davon. Auch heuer wird es wieder die Schauwerkstätten am 
 Markt geben. Diese „Handwerksmeile“ zeigt wie Gewerke vorgeführt 
 werden. Ob Rakubrand, Töpfern an der Töpferscheibe, Drechselarbeiten
 , Schmuckgestaltung, Papierschöpfen. Viele Besucher sind fasziniert v
 on diesen alten Handwerkstechniken und legen dann schon mal selbst Han
 d an.10:00 bis 18:00\n\nWeitere Informationen erhalten Sie unter http:
 //kunsthandwerk.artbeat.at/events/3-kunsthandwerksmarkt-st-gilgen
DTSTART;TZID=Europe/Vienna:20110924T000000
DTEND;TZID=Europe/Vienna:20110925T235900
CATEGORIES:kunsthandwerksmarkt
LOCATION:St. Gilgen/Seepark
WEBSITE:http://www.dreiseengalerie.at/khw/
URL:http://www.dreiseengalerie.at/khw/
CONTACT:
ORGANIZER:Drei-Seen-Galerie
ATTACH;FMTTYPE="image/jpeg":http://storage.ning.com/topology/rest/1.0/
 file/get/122582265?profile=original
END:VEVENT
END:VCALENDAR
