BEGIN:VCALENDAR
PRODID:NingEventWidget-v1
VERSION:2.0
METHOD:PUBLISH
BEGIN:VTIMEZONE
TZID:Europe/Vienna
X-LIC-LOCATION:Europe/Vienna
BEGIN:DAYLIGHT
TZOFFSETFROM:+0100
TZOFFSETTO:+0200
TZNAME:CEST
DTSTART:19700329T020000
RRULE:FREQ=YEARLY;BYMONTH=3;BYDAY=-1SU
END:DAYLIGHT
BEGIN:STANDARD
TZOFFSETFROM:+0200
TZOFFSETTO:+0100
TZNAME:CET
DTSTART:19701025T030000
RRULE:FREQ=YEARLY;BYMONTH=10;BYDAY=-1SU
END:STANDARD
END:VTIMEZONE
BEGIN:VEVENT
UID:6444107:Event:55308
DTSTAMP:20260419T173204Z
SUMMARY:6. Ferlacher Kunst-Handwerksmarkt 15. - 16. Juni 2019
DESCRIPTION:Samstag, 15. Juni 2019:\nKunst-Handwerksmarkt, Familien- u
 nd Kindertag mit Workshops, Kinderschminken, Hupfburg, Ponyreiten, Str
 eichelzoo usw.\nSonntag, 16. Juni 2019: \nKunst-Handwerksmarkt, Char
 ity-Tag zu Gunsten der Mammaambulanz vom Krankenhaus der Barmherzigen 
 Brüder (Brustkrebs-Zentrum) St. Veit\n\nWeitere Informationen erhalte
 n Sie unter http://kunsthandwerk.artbeat.at/events/6-ferlacher-kunst-h
 andwerksmarkt-15-16-juni-2019
DTSTART;TZID=Europe/Vienna:20190615T000000
DTEND;TZID=Europe/Vienna:20190616T235900
CATEGORIES:kunsthandwerksmarkt
LOCATION:Rondeau und Park vom Schloss Ferlach, Kärnten
WEBSITE:https://www.google.com/maps/place/Gaston+Glock+Park/@46.52556,
 14.2964158,17z/data=!3m1!4b1!4m5!3m4!1s0x477aa1c9de96fbd3:0x635bec59be
 72cc8b!8m2!3d46.52556!4d14.2986045
URL:https://www.google.com/maps/place/Gaston+Glock+Park/@46.52556,14.2
 964158,17z/data=!3m1!4b1!4m5!3m4!1s0x477aa1c9de96fbd3:0x635bec59be72cc
 8b!8m2!3d46.52556!4d14.2986045
CONTACT:0650/2668826, belha@gmx.at
ORGANIZER:Alfred und Belinda Hajek
ATTACH;FMTTYPE="image/jpeg":https://storage.ning.com/topology/rest/1.0
 /file/get/637925006?profile=original
ATTENDEE;ROLE=REQ-PARTICIPANT;PARTSTAT=ACCEPTED;RSVP=TRUE;CN="Silvia W
 alter":http://kunsthandwerk.artbeat.at/profile/SilviaWalter
ATTENDEE;ROLE=REQ-PARTICIPANT;PARTSTAT=ACCEPTED;RSVP=TRUE;CN="Belinda 
 Hajek":http://kunsthandwerk.artbeat.at/profile/BelindaHajek
END:VEVENT
END:VCALENDAR
