BEGIN:VCALENDAR
PRODID:NingEventWidget-v1
VERSION:2.0
METHOD:PUBLISH
BEGIN:VTIMEZONE
TZID:Europe/Vienna
X-LIC-LOCATION:Europe/Vienna
BEGIN:DAYLIGHT
TZOFFSETFROM:+0100
TZOFFSETTO:+0200
TZNAME:CEST
DTSTART:19700329T020000
RRULE:FREQ=YEARLY;BYMONTH=3;BYDAY=-1SU
END:DAYLIGHT
BEGIN:STANDARD
TZOFFSETFROM:+0200
TZOFFSETTO:+0100
TZNAME:CET
DTSTART:19701025T030000
RRULE:FREQ=YEARLY;BYMONTH=10;BYDAY=-1SU
END:STANDARD
END:VTIMEZONE
BEGIN:VEVENT
UID:6444107:Event:26375
DTSTAMP:20260423T111300Z
SUMMARY:8. Linzer Handwerkstage
DESCRIPTION:Die Linzer Altstadt ist der kulturell wertvollste Teil der
  oberösterreichischen Landeshauptstadt. Dieses historische Ambiente i
 n der Fußgängerzone bietet sich für einen Kunsthandwerksmarkt an, u
 nd daher finden heuer zum 8. Mal die LINZER HANDWERKSTAGE unter dem Mo
 tto »Kunst & Können« statt.\nDie sieben Veranstaltungen der Jahre z
 uvor waren ein toller Erfolg. Tausende interessierte Besucher kamen zu
  unserer Veranstaltung. Wir freuen uns über Ihren Besuch. Tragen Sie 
 mit uns dazu bei, der Linzer Altstadt ein besonderes Flair einzuhauche
 n. Dies ist ein Schritt zur Altstadtbelebung und: Mit unseren Designer
 stücken sind wir Meinungsbildner unter dem Motto »Klasse statt Masse
 «\n\nWeitere Informationen erhalten Sie unter http://kunsthandwerk.ar
 tbeat.at/events/8-linzer-handwerkstage
DTSTART;TZID=Europe/Vienna:20150530T100000
DTEND;TZID=Europe/Vienna:20150531T180000
CATEGORIES:kunsthandwerksmarkt
LOCATION:Linz
WEBSITE:http://www.altstadt-linz.at
URL:http://www.altstadt-linz.at
CONTACT:0043-(0)650-37 37 077
ORGANIZER:Verein Altstadt neu - Sieglinde Almesberger
ATTACH;FMTTYPE="image/jpeg":http://storage.ning.com/topology/rest/1.0/
 file/get/122586164?profile=original
ATTENDEE;ROLE=REQ-PARTICIPANT;PARTSTAT=ACCEPTED;RSVP=TRUE;CN=artbeat:h
 ttp://kunsthandwerk.artbeat.at/profile/04jn571ett22n
END:VEVENT
END:VCALENDAR
