BEGIN:VCALENDAR
PRODID:NingEventWidget-v1
VERSION:2.0
METHOD:PUBLISH
BEGIN:VTIMEZONE
TZID:Europe/Vienna
X-LIC-LOCATION:Europe/Vienna
BEGIN:DAYLIGHT
TZOFFSETFROM:+0100
TZOFFSETTO:+0200
TZNAME:CEST
DTSTART:19700329T020000
RRULE:FREQ=YEARLY;BYMONTH=3;BYDAY=-1SU
END:DAYLIGHT
BEGIN:STANDARD
TZOFFSETFROM:+0200
TZOFFSETTO:+0100
TZNAME:CET
DTSTART:19701025T030000
RRULE:FREQ=YEARLY;BYMONTH=10;BYDAY=-1SU
END:STANDARD
END:VTIMEZONE
BEGIN:VEVENT
UID:6444107:Event:58505
DTSTAMP:20260423T123618Z
SUMMARY:Advent - Weihnachtsausstellung
DESCRIPTION:Es erwarten Sie viele originelle Geschenkideen, Dekorative
 s für die Weihnachtszeit, sowie Kunsthandwerk vom Feinsten:\nHandgefe
 rtigte Messer - Krippen - Kerzen Weihnachtsdeko - Mineralien - Laserde
 sign  Traditionelles Handwerk - Geschenkideen\nGlühwein - Kinderpunsc
 h Selbstgemachte Weihnachtskekse\nHIGHLIGHTS: Advent- und Weihnachtsau
 sstellung Glücksrad (jede Drehung gewinnt) Basteln mit Kindern (ab 14
  Uhr) Advent-Brunch (Sonntag 10-12 Uhr) Hauptverlosung (Sonntag 16 Uhr
 )\nFreitag 14-18 Uhr Samstag 10-18 Uhr Sonntag 10-17 Uhr Eintritt frei
 !\nAuf Ihren Besuch freuen sich\nKreativ + Edel + Husig Laser Design T
 elefonische Infos unter +43 664 73194329\n\nWeitere Informationen erha
 lten Sie unter http://kunsthandwerk.artbeat.at/events/advent-amp-weihn
 achts-ausstellung
DTSTART;TZID=Europe/Vienna:20191122T000000
DTEND;TZID=Europe/Vienna:20191124T235900
CATEGORIES:advent, -, weihnachtsausstellung
LOCATION:Kreativ Edel
WEBSITE:https://www.google.com/maps/place/Seestra%C3%9Fe+7,+4865/@47.8
 816565,13.5252227,17z/data=!3m1!4b1!4m5!3m4!1s0x4776a9a96e7400bb:0x810
 e506b0e2a7481!8m2!3d47.8816529!4d13.5274114
URL:https://www.google.com/maps/place/Seestra%C3%9Fe+7,+4865/@47.88165
 65,13.5252227,17z/data=!3m1!4b1!4m5!3m4!1s0x4776a9a96e7400bb:0x810e506
 b0e2a7481!8m2!3d47.8816529!4d13.5274114
CONTACT:+43 664 73194329
ORGANIZER;CN="Werner Pusterhofer":http://kunsthandwerk.artbeat.at/prof
 ile/Wernerpusterhofer
ATTACH;FMTTYPE="image/jpeg":https://storage.ning.com/topology/rest/1.0
 /file/get/3697037761?profile=original
ATTENDEE;ROLE=REQ-PARTICIPANT;PARTSTAT=ACCEPTED;RSVP=TRUE;CN="Werner P
 usterhofer":http://kunsthandwerk.artbeat.at/profile/Wernerpusterhofer
END:VEVENT
END:VCALENDAR
