BEGIN:VCALENDAR
PRODID:NingEventWidget-v1
VERSION:2.0
METHOD:PUBLISH
BEGIN:VTIMEZONE
TZID:Europe/Vienna
X-LIC-LOCATION:Europe/Vienna
BEGIN:DAYLIGHT
TZOFFSETFROM:+0100
TZOFFSETTO:+0200
TZNAME:CEST
DTSTART:19700329T020000
RRULE:FREQ=YEARLY;BYMONTH=3;BYDAY=-1SU
END:DAYLIGHT
BEGIN:STANDARD
TZOFFSETFROM:+0200
TZOFFSETTO:+0100
TZNAME:CET
DTSTART:19701025T030000
RRULE:FREQ=YEARLY;BYMONTH=10;BYDAY=-1SU
END:STANDARD
END:VTIMEZONE
BEGIN:VEVENT
UID:6444107:Event:150909
DTSTAMP:20260420T084541Z
SUMMARY:Advent im Schanzengelände
DESCRIPTION:An den Wochenenden 2. - 3., 8. - 10., 16. - 17. Dez. finde
 t rund um das Österreich-Haus im Schanzengelände der Paul Außerleit
 ner Sprungschanze dieser Kunsthandwerksmarkt statt. Begleitet mit eine
 r Wanderung zum nahegelegenen Wasserfall der mystisch beleuchtet und b
 eschallt wird. \n\nWeitere Informationen erhalten Sie unter http://ku
 nsthandwerk.artbeat.at/events/advent-im-schanzengel-nde
DTSTART;TZID=Europe/Vienna:20231202T130000
DTEND;TZID=Europe/Vienna:20231216T200000
CATEGORIES:kunsthandwerksmarkt, im, advent
LOCATION:Bischofshofen, Schanzengelände
WEBSITE:
URL:
CONTACT:
ORGANIZER;CN="Gerhard Dembski":http://kunsthandwerk.artbeat.at/profile
 /GerhardDembski
ATTACH;FMTTYPE="image/jpeg":
ATTENDEE;ROLE=REQ-PARTICIPANT;PARTSTAT=ACCEPTED;RSVP=TRUE;CN="Gerhard 
 Dembski":http://kunsthandwerk.artbeat.at/profile/GerhardDembski
END:VEVENT
END:VCALENDAR
