BEGIN:VCALENDAR
PRODID:NingEventWidget-v1
VERSION:2.0
METHOD:PUBLISH
BEGIN:VTIMEZONE
TZID:Europe/Vienna
X-LIC-LOCATION:Europe/Vienna
BEGIN:DAYLIGHT
TZOFFSETFROM:+0100
TZOFFSETTO:+0200
TZNAME:CEST
DTSTART:19700329T020000
RRULE:FREQ=YEARLY;BYMONTH=3;BYDAY=-1SU
END:DAYLIGHT
BEGIN:STANDARD
TZOFFSETFROM:+0200
TZOFFSETTO:+0100
TZNAME:CET
DTSTART:19701025T030000
RRULE:FREQ=YEARLY;BYMONTH=10;BYDAY=-1SU
END:STANDARD
END:VTIMEZONE
BEGIN:VEVENT
UID:6444107:Event:54258
DTSTAMP:20260423T013135Z
SUMMARY:Advent - Weihnachtsaustellung
DESCRIPTION:Wir laden Sie und Ihre Familie, Freunde und Bekannte recht
  herzlich zu unserer Advent - Weihnachtsausstellung ein.\nEs erwarten 
 Sie viele originelle Geschenksideen, Dekoratives, sowie handgefertigte
  Messer.\nFür Glühwein und Weihnachtskekse ist gesorgt!\nWir freuen 
 uns auf Ihren Besuch!\n\nWeitere Informationen erhalten Sie unter http
 ://kunsthandwerk.artbeat.at/events/advent-weihnachtsaustellung
DTSTART;TZID=Europe/Vienna:20181123T000000
DTEND;TZID=Europe/Vienna:20181125T235900
CATEGORIES:advent, -, weihnachtsausstellung
LOCATION:Oberösterreich
WEBSITE:https://www.google.com/maps/place/Seestra%C3%9Fe+7,+4865/@47.8
 81567,13.5251983,17z/data=!3m1!4b1!4m5!3m4!1s0x4776a9a96e7400bb:0x810e
 506b0e2a7481!8m2!3d47.881567!4d13.527387
URL:https://www.google.com/maps/place/Seestra%C3%9Fe+7,+4865/@47.88156
 7,13.5251983,17z/data=!3m1!4b1!4m5!3m4!1s0x4776a9a96e7400bb:0x810e506b
 0e2a7481!8m2!3d47.881567!4d13.527387
CONTACT:066473194329 office@kreativ.edel.at
ORGANIZER;CN="Werner Pusterhofer":http://kunsthandwerk.artbeat.at/prof
 ile/Wernerpusterhofer
ATTACH;FMTTYPE="image/jpeg":http://storage.ning.com/topology/rest/1.0/
 file/get/1235893596?profile=original
ATTENDEE;ROLE=REQ-PARTICIPANT;PARTSTAT=ACCEPTED;RSVP=TRUE;CN="Werner P
 usterhofer":http://kunsthandwerk.artbeat.at/profile/Wernerpusterhofer
END:VEVENT
END:VCALENDAR
