BEGIN:VCALENDAR
PRODID:NingEventWidget-v1
VERSION:2.0
METHOD:PUBLISH
BEGIN:VTIMEZONE
TZID:Europe/Vienna
X-LIC-LOCATION:Europe/Vienna
BEGIN:DAYLIGHT
TZOFFSETFROM:+0100
TZOFFSETTO:+0200
TZNAME:CEST
DTSTART:19700329T020000
RRULE:FREQ=YEARLY;BYMONTH=3;BYDAY=-1SU
END:DAYLIGHT
BEGIN:STANDARD
TZOFFSETFROM:+0200
TZOFFSETTO:+0100
TZNAME:CET
DTSTART:19701025T030000
RRULE:FREQ=YEARLY;BYMONTH=10;BYDAY=-1SU
END:STANDARD
END:VTIMEZONE
BEGIN:VEVENT
UID:6444107:Event:3129
DTSTAMP:20260423T092327Z
SUMMARY:Adventmarkt am Stehrerhof
DESCRIPTION:Einer der schönsten Adventmärkte im Land findet alljähr
 lich im Freilichtmuseum Stehrerhof in Neukirchen an der Vöckla (Bez. 
 Vöcklabruck-OÖ.) statt. An über 50 Ständen im Handwerkerhaus, im H
 of und im Freigelände bieten Kunsthandwerker ihre selbstgefertigten K
 unstwerke zum Kauf an. Ebenso werden alte bäuerliche Handwerkprodukte
  zum Kauf angeboten.\nFür Adventstimmung sorgt der Adventkalender am 
 Stehrerhof-Gebäude, die Bläsergruppe Neukirchen, die Viechtauer Blä
 ser, der Singkreis Neukirchen, die Stehrerhofmusi und Luise Pape.\nEin
  Erlebnis das Sie sich nicht entgehen lassen sollen.\nSA 10:00 – 19:
 00, SO 10:00 – 17:00\n\nWeitere Informationen erhalten Sie unter htt
 p://kunsthandwerk.artbeat.at/events/adventmarkt-am-stehrerhof
DTSTART;TZID=Europe/Vienna:20111203T000000
DTEND;TZID=Europe/Vienna:20111204T235900
CATEGORIES:kunsthandwerksmarkt
LOCATION:Neukirchen/Vöckla
WEBSITE:http://maps.google.at/maps/ms?msid=214857037176782167008.00049
 e98854b782f7e2c1&msa=0&ll=48.042742,13.555756&spn=0.146445,0.297318
URL:http://maps.google.at/maps/ms?msid=214857037176782167008.00049e988
 54b782f7e2c1&msa=0&ll=48.042742,13.555756&spn=0.146445,0.297318
CONTACT:
ORGANIZER:Freilichtmuseum Stehrerhof
ATTACH;FMTTYPE="image/jpeg":http://storage.ning.com/topology/rest/1.0/
 file/get/122582452?profile=original
ATTENDEE;ROLE=REQ-PARTICIPANT;PARTSTAT=ACCEPTED;RSVP=TRUE;CN=artbeat:h
 ttp://kunsthandwerk.artbeat.at/profile/04jn571ett22n
END:VEVENT
END:VCALENDAR
