BEGIN:VCALENDAR
PRODID:NingEventWidget-v1
VERSION:2.0
METHOD:PUBLISH
BEGIN:VTIMEZONE
TZID:Europe/Vienna
X-LIC-LOCATION:Europe/Vienna
BEGIN:DAYLIGHT
TZOFFSETFROM:+0100
TZOFFSETTO:+0200
TZNAME:CEST
DTSTART:19700329T020000
RRULE:FREQ=YEARLY;BYMONTH=3;BYDAY=-1SU
END:DAYLIGHT
BEGIN:STANDARD
TZOFFSETFROM:+0200
TZOFFSETTO:+0100
TZNAME:CET
DTSTART:19701025T030000
RRULE:FREQ=YEARLY;BYMONTH=10;BYDAY=-1SU
END:STANDARD
END:VTIMEZONE
BEGIN:VEVENT
UID:6444107:Event:34271
DTSTAMP:20260423T122925Z
SUMMARY:Adventmarkt im Joanneumsviertel GRAZ
DESCRIPTION:Die Mitglieder der STEIRISCHEN INITIATIVE KUNSTHANDWERK pr
 äsentieren ihre aktuellen Produkte in neuem Ambiente: Lesliehof und L
 esehof des Joanneumsviertels bezaubern mit außergewöhnlichen Geschen
 kideen aus den Ateliers und Werkstätten der KünstlerInnen.\n\nMo - S
 a 11:00 – 19:00, So 12:00 - 18:00\n\nWeitere Informationen erhalten 
 Sie unter http://kunsthandwerk.artbeat.at/events/adventmarkt-im-joanne
 umsviertel-graz-1
DTSTART;TZID=Europe/Vienna:20161125T000000
DTEND;TZID=Europe/Vienna:20161223T235900
CATEGORIES:kunsthandwerksmarkt
LOCATION:Graz
WEBSITE:http://www.stikh.at
URL:http://www.stikh.at
CONTACT:0664-4056790
ORGANIZER:Steirische Initiative Kunsthandwerk
ATTACH;FMTTYPE="image/jpeg":http://storage.ning.com/topology/rest/1.0/
 file/get/1235891142?profile=original
ATTENDEE;ROLE=REQ-PARTICIPANT;PARTSTAT=ACCEPTED;RSVP=TRUE;CN=artbeat:h
 ttp://kunsthandwerk.artbeat.at/profile/04jn571ett22n
END:VEVENT
END:VCALENDAR
