BEGIN:VCALENDAR
PRODID:NingEventWidget-v1
VERSION:2.0
METHOD:PUBLISH
BEGIN:VTIMEZONE
TZID:Europe/Vienna
X-LIC-LOCATION:Europe/Vienna
BEGIN:DAYLIGHT
TZOFFSETFROM:+0100
TZOFFSETTO:+0200
TZNAME:CEST
DTSTART:19700329T020000
RRULE:FREQ=YEARLY;BYMONTH=3;BYDAY=-1SU
END:DAYLIGHT
BEGIN:STANDARD
TZOFFSETFROM:+0200
TZOFFSETTO:+0100
TZNAME:CET
DTSTART:19701025T030000
RRULE:FREQ=YEARLY;BYMONTH=10;BYDAY=-1SU
END:STANDARD
END:VTIMEZONE
BEGIN:VEVENT
UID:6444107:Event:153550
DTSTAMP:20260419T205751Z
SUMMARY:Benedikti-Markt Pettenbach
DESCRIPTION:Rund 70 Künstler und Kunsthandwerker - von regional bis i
 nternational - mit handgefertigten Produkten: Dekorations- und Gebrauc
 hsgegenstände für Haus & Garten, Geschenke, Schmuck, Kleidung und Ac
 cessoires für Kinder und Erwachsene, Taschen, Naturprodukte und viele
 s mehr!\n- Handwerks-Vorführungen  - Kinderprogramm  - Livekonzert,
  Tanzauftritte ... \n- Kulinarisches Angebot der Pettenbacher Vereine
  \n- Freier Eintritt!\nRückblick: www.pettenbach.at/Benedikti-Markt
 _2023\n\nWeitere Informationen erhalten Sie unter http://kunsthandwerk
 .artbeat.at/events/benedikti-markt-pettenbach-2
DTSTART;TZID=Europe/Vienna:20240928T120000
DTEND;TZID=Europe/Vienna:20240929T170000
CATEGORIES:kunsthandwerksmarkt
LOCATION:Oberösterreich
WEBSITE:https://www.pettenbach.at/
URL:https://www.pettenbach.at/
CONTACT:+43 7586/8155-105, itzenberger@pettenbach.ooe.gv.at
ORGANIZER:Kulturausschuss der Marktgemeinde Pettenbach
ATTACH;FMTTYPE="image/jpeg":
ATTENDEE;ROLE=REQ-PARTICIPANT;PARTSTAT=ACCEPTED;RSVP=TRUE;CN="Angela I
 tzenberger":http://kunsthandwerk.artbeat.at/profile/AngelaItzenberger
END:VEVENT
END:VCALENDAR
