BEGIN:VCALENDAR
PRODID:NingEventWidget-v1
VERSION:2.0
METHOD:PUBLISH
BEGIN:VTIMEZONE
TZID:Europe/Vienna
X-LIC-LOCATION:Europe/Vienna
BEGIN:DAYLIGHT
TZOFFSETFROM:+0100
TZOFFSETTO:+0200
TZNAME:CEST
DTSTART:19700329T020000
RRULE:FREQ=YEARLY;BYMONTH=3;BYDAY=-1SU
END:DAYLIGHT
BEGIN:STANDARD
TZOFFSETFROM:+0200
TZOFFSETTO:+0100
TZNAME:CET
DTSTART:19701025T030000
RRULE:FREQ=YEARLY;BYMONTH=10;BYDAY=-1SU
END:STANDARD
END:VTIMEZONE
BEGIN:VEVENT
UID:6444107:Event:55396
DTSTAMP:20260423T123042Z
SUMMARY:Brauchtumsmarkt Oberneukirchen
DESCRIPTION:Am Samstag 23. November von 10- 18 Uhr und am Sonntag 24. 
 November 2019 von 9-17 Uhr findet wieder der allseits weit über die O
 rtsgrenzen hinaus beliebte Brauchtumsmarkt in der schönen Mühlviertl
 er Marktgemeinde Oberneukirchen statt.Unter der Organisation der Kultu
 r-Werkstatt-Schnopfhagen und der Zusammenarbeit mit anderen Vereinen h
 at sich der Markt in den letzten Jahren zum fixen Bestandteil im kultu
 rellen Leben der Vorweihnachtszeit entwickelt. Völlig zurecht genieß
 t der Oberneukirchner Brauchtumsmarkt den Ruf als einer der Schönsten
  und Größten in Oberösterreich.Knapp 100 Aussteller bieten ihre hoc
 hwertigen Produkte an und laden die BesucherInnen zu persönlichen Ges
 prächen und zum Beobachten ihrer Arbeitsmethoden ein.\r\nThema: „Le
 bensgemeinschaft Wald“Der Wald ist mehr als die Summe seiner Bäume.
 Er ist Erholungsraum für Menschen und fördert deren Gesundheit. Er i
 st Lebensraum vieler Tiere, hält den Boden fest und reinigt als „gr
 üne Lunge“ die Luft der Erde. Er übt auf die ihm umgebene Landscha
 ft, auf Klima, Temperatur, Luft und Wasser sowie auf die Tier-und Pfla
 nzenwelt eine bedeutsame Wirkung aus.Wald muss erhalten und seine Bewi
 rtschaftung nachhaltig gesichert sein. Der Mensch muss  Sorge tragen,
  dass dieses empfindliche Ökosystem und sein biologischer Stoffkreisl
 auf nicht zerstört wird.Baum ist nicht gleich Baum, Holz ist nicht gl
 eich Holz. So vielfältig wie die unterschiedlichen Baumarten im Wald 
 sind, so unterschiedlich sind auch die vielfältigen Produkte, die man
  aus Holz herstellen kann.Tauchen Sie mit uns ein in die „Schatzkist
 e Wald“ und lernen Sie seine Schönheit kennen.\r\nIm Wohlfühlambie
 nte des Marktes sorgen die örtlichen Vereine mit Mühlviertler Köstl
 ichkeiten für Gaumenfreuden. Umrahmt wird der Markt von Darbietungen 
 verschiedener Musikgruppen. Das Basteln von Insektenhotels, Vogelhäus
 chen und Zapfenfiguren mit Naturmaterialien lässt auch bei den Kinder
 n keine Lageweile aufkommen.\r\nBeim gemütlichen Bummeln und Staunen 
 über die Vielfalt an großen und kleinen Kostbarkeiten wird der Obern
 eukirchner Brauchtumsmarkt zur Fundgrube für Besonderes und Originell
 es. Die KunsthandwerkerInnen und die Kultur-Werkstatt-Schnopfhagen fre
 uen sich auf Ihren Besuch.\r\nEintritt pro Tag/Person: € 3,-Kinder u
 nd Jugendliche bis 15 Jahre freier Eintritt\r\nRahmenprogramm:   Sam
 stag:11:00 Uhr Landesmusikschule Oberneukirchen14:00 Uhr Oberneukirchn
 er BläsergruppeSonntag:11:00 Uhr Edelholz14:00 Uhr Schnopfhagen Liede
 rkranzKinderprogramm:Samstag und Sonntag durchgehendBetreutes Basteln 
 mit Naturmaterialien (Vogelhäuschen, Insektenhotel, Zapfenfiguren)\n\
 nWeitere Informationen erhalten Sie unter http://kunsthandwerk.artbeat
 .at/events/brauchtumsmarkt-oberneukirchen-3
DTSTART;TZID=Europe/Vienna:20191123T100000
DTEND;TZID=Europe/Vienna:20191124T170000
CATEGORIES:brauchtumsmarkt
LOCATION:Oberösterreich
WEBSITE:http://www.schnopfi.com
URL:http://www.schnopfi.com
CONTACT:0664 9118806 office@schnopfi.com
ORGANIZER:Kultur-Werkstatt-Schnopfhagen
ATTACH;FMTTYPE="image/jpeg":http://storage.ning.com/topology/rest/1.0/
 file/get/122588348?profile=original
ATTENDEE;ROLE=REQ-PARTICIPANT;PARTSTAT=ACCEPTED;RSVP=TRUE;CN=artbeat:h
 ttp://kunsthandwerk.artbeat.at/profile/04jn571ett22n
END:VEVENT
END:VCALENDAR
