BEGIN:VCALENDAR
PRODID:NingEventWidget-v1
VERSION:2.0
METHOD:PUBLISH
BEGIN:VTIMEZONE
TZID:Europe/Vienna
X-LIC-LOCATION:Europe/Vienna
BEGIN:DAYLIGHT
TZOFFSETFROM:+0100
TZOFFSETTO:+0200
TZNAME:CEST
DTSTART:19700329T020000
RRULE:FREQ=YEARLY;BYMONTH=3;BYDAY=-1SU
END:DAYLIGHT
BEGIN:STANDARD
TZOFFSETFROM:+0200
TZOFFSETTO:+0100
TZNAME:CET
DTSTART:19701025T030000
RRULE:FREQ=YEARLY;BYMONTH=10;BYDAY=-1SU
END:STANDARD
END:VTIMEZONE
BEGIN:VEVENT
UID:6444107:Event:152037
DTSTAMP:20260420T040547Z
SUMMARY:Frauenkunsthandwerksmarkt Anif
DESCRIPTION:Frauen Kunst Handwerk im Gemeindezentrum Anif\nEs erwartet
  Sie hochwertige und kreativ gestaltete Handwerkskunst\nin gemütliche
 r Atmosphäre. Entdecken und erwerben Sie Ihr ganz\npersönliches Lieb
 lingsstück bei freiem Eintritt.\nWir freuen uns auf Ihr Kommen!\n\nWe
 itere Informationen erhalten Sie unter http://kunsthandwerk.artbeat.at
 /events/frauenkunsthandwerksmarkt-anif-4
DTSTART;TZID=Europe/Vienna:20231216T100000
DTEND;TZID=Europe/Vienna:20231217T180000
CATEGORIES:kunsthandwerksmarkt
LOCATION:Gemeindezentrum
WEBSITE:https://frauenkunsthandwerk.at/
URL:https://frauenkunsthandwerk.at/
CONTACT:0650/6575136 koenigami@gmx.at
ORGANIZER;CN="Christina König":http://kunsthandwerk.artbeat.at/profil
 e/ChristinaKoenig
ATTACH;FMTTYPE="image/jpeg":https://storage.ning.com/topology/rest/1.0
 /file/get/11022461896?profile=original
ATTENDEE;ROLE=REQ-PARTICIPANT;PARTSTAT=ACCEPTED;RSVP=TRUE;CN="Evi Bind
 er":http://kunsthandwerk.artbeat.at/profile/EviBinder
ATTENDEE;ROLE=REQ-PARTICIPANT;PARTSTAT=ACCEPTED;RSVP=TRUE;CN="Christin
 a König":http://kunsthandwerk.artbeat.at/profile/ChristinaKoenig
END:VEVENT
END:VCALENDAR
