BEGIN:VCALENDAR
PRODID:NingEventWidget-v1
VERSION:2.0
METHOD:PUBLISH
BEGIN:VTIMEZONE
TZID:Europe/Vienna
X-LIC-LOCATION:Europe/Vienna
BEGIN:DAYLIGHT
TZOFFSETFROM:+0100
TZOFFSETTO:+0200
TZNAME:CEST
DTSTART:19700329T020000
RRULE:FREQ=YEARLY;BYMONTH=3;BYDAY=-1SU
END:DAYLIGHT
BEGIN:STANDARD
TZOFFSETFROM:+0200
TZOFFSETTO:+0100
TZNAME:CET
DTSTART:19701025T030000
RRULE:FREQ=YEARLY;BYMONTH=10;BYDAY=-1SU
END:STANDARD
END:VTIMEZONE
BEGIN:VEVENT
UID:6444107:Event:49190
DTSTAMP:20260422T144931Z
SUMMARY:Frauenkunsthandwerksmarkt Anif
DESCRIPTION:wir laden sie herzlich zum schauen,staunen, genießen in a
 ngenehmerund entspannter atmosphäre ein.wir freuen uns auf ihren besu
 ch!eintritt frei!\n\nWeitere Informationen erhalten Sie unter http://k
 unsthandwerk.artbeat.at/events/frauenkunsthandwerksmarkt-anif
DTSTART;TZID=Europe/Vienna:20171209T100000
DTEND;TZID=Europe/Vienna:20171210T180000
CATEGORIES:kunsthandwerksmarkt
LOCATION:A-5081 Anif bei Salzburg
WEBSITE:http://www.frauenkunsthandwerk.at
URL:http://www.frauenkunsthandwerk.at
CONTACT:
ORGANIZER;CN="Christina König":http://kunsthandwerk.artbeat.at/profil
 e/ChristinaKoenig
ATTACH;FMTTYPE="image/jpeg":http://storage.ning.com/topology/rest/1.0/
 file/get/122588469?profile=original
ATTENDEE;ROLE=REQ-PARTICIPANT;PARTSTAT=ACCEPTED;RSVP=TRUE;CN="Christin
 a König":http://kunsthandwerk.artbeat.at/profile/ChristinaKoenig
END:VEVENT
END:VCALENDAR
