BEGIN:VCALENDAR
PRODID:NingEventWidget-v1
VERSION:2.0
METHOD:PUBLISH
BEGIN:VTIMEZONE
TZID:Europe/Vienna
X-LIC-LOCATION:Europe/Vienna
BEGIN:DAYLIGHT
TZOFFSETFROM:+0100
TZOFFSETTO:+0200
TZNAME:CEST
DTSTART:19700329T020000
RRULE:FREQ=YEARLY;BYMONTH=3;BYDAY=-1SU
END:DAYLIGHT
BEGIN:STANDARD
TZOFFSETFROM:+0200
TZOFFSETTO:+0100
TZNAME:CET
DTSTART:19701025T030000
RRULE:FREQ=YEARLY;BYMONTH=10;BYDAY=-1SU
END:STANDARD
END:VTIMEZONE
BEGIN:VEVENT
UID:6444107:Event:41413
DTSTAMP:20260423T134617Z
SUMMARY:Frauenkunsthandwerksmarkt - Orangerie Eisenstadt
DESCRIPTION:Frauenkunsthandwerksmarkt â€žunbeschreiblich weiblichâ€œ 1
 9.- 20. November, Orangerie Eisenstadt\nFrauenkunsthandwerksmarkt â€žu
 nbeschreiblich weiblichâ€œ\nNach zwei erfolgreichen Jahren soll auch h
 euer wieder der Frauenkunsthandwerksmarkt â€žunbeschreiblich weiblichâ
 €œ in Eisenstadt stattfinden.\nWie gehabt, dient die Orangerie in Eise
 nstadt als Veranstaltungsort, wo nach Herzenslust gestÃ¶bert, bewunder
 t und gekauft werden kann. Der Markt ist am Samstag, 19. November von 
 10.00 bis 18.00 Uhr und am Sonntag 20. November von 10.00 bis 16.00 Uh
 r geÃ¶ffnet.\n\nNÃ¤here Informationen unter: Amt der BurgenlÃ¤ndischen
  Landesregierung  Referat Frauenangelegenheiten  Tel.: 02682/600 - 215
 8 FAX: 02682/ 600 - 2769 E-Mail: post.frauenreferat@bgld.gv.at\n\nWeit
 ere Informationen erhalten Sie unter http://kunsthandwerk.artbeat.at/e
 vents/frauenkunsthandwerksmarkt-orangerie-eisenstadt-1
DTSTART;TZID=Europe/Vienna:20161119T000000
DTEND;TZID=Europe/Vienna:20161120T235900
CATEGORIES:kunsthandwerksmarkt
LOCATION:Orangerie Eisenstadt
WEBSITE:
URL:
CONTACT:
ORGANIZER:Amt der BurgenlÃ¤ndischen Landesregierung Referat Frauenange
 legenheiten
ATTACH;FMTTYPE="image/jpeg":http://storage.ning.com/topology/rest/1.0/
 file/get/122587419?profile=original
ATTENDEE;ROLE=REQ-PARTICIPANT;PARTSTAT=ACCEPTED;RSVP=TRUE;CN=artbeat:h
 ttp://kunsthandwerk.artbeat.at/profile/04jn571ett22n
END:VEVENT
END:VCALENDAR
