BEGIN:VCALENDAR
PRODID:NingEventWidget-v1
VERSION:2.0
METHOD:PUBLISH
BEGIN:VTIMEZONE
TZID:Europe/Vienna
X-LIC-LOCATION:Europe/Vienna
BEGIN:DAYLIGHT
TZOFFSETFROM:+0100
TZOFFSETTO:+0200
TZNAME:CEST
DTSTART:19700329T020000
RRULE:FREQ=YEARLY;BYMONTH=3;BYDAY=-1SU
END:DAYLIGHT
BEGIN:STANDARD
TZOFFSETFROM:+0200
TZOFFSETTO:+0100
TZNAME:CET
DTSTART:19701025T030000
RRULE:FREQ=YEARLY;BYMONTH=10;BYDAY=-1SU
END:STANDARD
END:VTIMEZONE
BEGIN:VEVENT
UID:6444107:Event:60043
DTSTAMP:20260423T124316Z
SUMMARY:Galeria mobile im Shoppingcenter Traisenpark
DESCRIPTION:Wir starten durch â€“ 8. Mai bis 15. Juni: Kunst- und Kuns
 thandwerk Galerie im Traisenpark St. PÃ¶lten\n25. JÃ¤nner 2020Â /Â 0 K
 ommentare\n\nWir mussten unsere Galerie vorlÃ¤ufig auf den Mai / Juni 
 verlegen und freuen uns dann auf regen Besuch!\n\n\nEs ist soweit. Wir
  haben dieÂ Planung fÃ¼r das erste HalbjahrÂ in â€žtrockenen TÃ¼chernâ
 €œ. Zwar hat uns Corona ein wenig zu schaffen gemacht, doch nun starte
 n wir wieder durch. Wir freuen uns auf Euren Besuch und haben uns eini
 ge besondere HÃ¶hepunkte fÃ¼r den Muttertag und Vatertag einfallen las
 sen. Besucht uns in unserem Lokale im Traisenpark, dem Shopping-Center
  in St. PÃ¶lten.\nMehr dazu:Â Hier geht es zur Galerie\n\n\nWeitere In
 formationen erhalten Sie unter http://kunsthandwerk.artbeat.at/events/
 galeria-mobile-im-shoppingcenter-traisenpark
DTSTART;TZID=Europe/Vienna:20200506T000000
DTEND;TZID=Europe/Vienna:20201231T235900
CATEGORIES:galeri, ausstellung, kunsthandwerk
LOCATION:St. PÃ¶lten
WEBSITE:https://traisenpark.at
URL:https://traisenpark.at
CONTACT:06645336507
ORGANIZER;CN="Franz X. Ehrl":http://kunsthandwerk.artbeat.at/profile/F
 ranzXEhrl
ATTACH;FMTTYPE="image/jpeg":
ATTENDEE;ROLE=REQ-PARTICIPANT;PARTSTAT=ACCEPTED;RSVP=TRUE;CN="Franz X.
  Ehrl":http://kunsthandwerk.artbeat.at/profile/FranzXEhrl
END:VEVENT
END:VCALENDAR
