BEGIN:VCALENDAR
PRODID:NingEventWidget-v1
VERSION:2.0
METHOD:PUBLISH
BEGIN:VTIMEZONE
TZID:Europe/Vienna
X-LIC-LOCATION:Europe/Vienna
BEGIN:DAYLIGHT
TZOFFSETFROM:+0100
TZOFFSETTO:+0200
TZNAME:CEST
DTSTART:19700329T020000
RRULE:FREQ=YEARLY;BYMONTH=3;BYDAY=-1SU
END:DAYLIGHT
BEGIN:STANDARD
TZOFFSETFROM:+0200
TZOFFSETTO:+0100
TZNAME:CET
DTSTART:19701025T030000
RRULE:FREQ=YEARLY;BYMONTH=10;BYDAY=-1SU
END:STANDARD
END:VTIMEZONE
BEGIN:VEVENT
UID:6444107:Event:146
DTSTAMP:20260423T064357Z
SUMMARY:HANDWERK und KUNST unserer Zeit
DESCRIPTION:Die Gruppe LINUM präsentiert ca. 40 Kunstschaffende, die 
 mit viel Liebe und handwerklichem Können in ihren Ateliers ausdrucksv
 olle Arbeiten von höchster Qualität schaffen. Im wunderschönen Ambi
 ente der Burg setzen sie ihre Arbeiten in den idealen Rahmen und stell
 en sich mit ihren Werken persönlich vor. Ein breit gefächertes Spekt
 rum von Textil- und Glaskunst, Druckgrafik, Keramik, Holzobjekte, Skul
 pturen, Bilder, Schmuck und vieles mehr erwartet den Besucher. Wer das
  Besondere sucht, findet es bei LINUM.\n10:00 bis 19:00\n\nWeitere Inf
 ormationen erhalten Sie unter http://kunsthandwerk.artbeat.at/events/h
 andwerk-und-kunst-unserer-zeit
DTSTART;TZID=Europe/Vienna:20111001T000000
DTEND;TZID=Europe/Vienna:20111002T235900
CATEGORIES:kunsthandwerksmarkt
LOCATION:Burg Perchtoldsdorf
WEBSITE:http://www.wald4tel.at/linum
URL:http://www.wald4tel.at/linum
CONTACT:
ORGANIZER:Verein Linum
ATTACH;FMTTYPE="image/jpeg":http://storage.ning.com/topology/rest/1.0/
 file/get/122582258?profile=original
ATTENDEE;ROLE=REQ-PARTICIPANT;PARTSTAT=ACCEPTED;RSVP=TRUE;CN="Gottfrie
 d Schmuck":http://kunsthandwerk.artbeat.at/profile/GottfriedSchmuck
END:VEVENT
END:VCALENDAR
