BEGIN:VCALENDAR
PRODID:NingEventWidget-v1
VERSION:2.0
METHOD:PUBLISH
BEGIN:VTIMEZONE
TZID:Europe/Vienna
X-LIC-LOCATION:Europe/Vienna
BEGIN:DAYLIGHT
TZOFFSETFROM:+0100
TZOFFSETTO:+0200
TZNAME:CEST
DTSTART:19700329T020000
RRULE:FREQ=YEARLY;BYMONTH=3;BYDAY=-1SU
END:DAYLIGHT
BEGIN:STANDARD
TZOFFSETFROM:+0200
TZOFFSETTO:+0100
TZNAME:CET
DTSTART:19701025T030000
RRULE:FREQ=YEARLY;BYMONTH=10;BYDAY=-1SU
END:STANDARD
END:VTIMEZONE
BEGIN:VEVENT
UID:6444107:Event:337
DTSTAMP:20260423T094156Z
SUMMARY:Internationales Handwerker-Treffen
DESCRIPTION:Bereits zum 13. Mal findet das internationale Holzhandwerk
 ertreffen am Gelände der Firma Magma in Aurolzmünster, OÖ, statt. 2
 0 internationale Top-Handwerker - Drechsler, Bildhauer und Tischler au
 s Japan, Neuseeland, England, Frankreich, Deutschland der Schweiz und 
 Österreich - zeigen ein vielfältiges Programm. Bogenbauen und Schär
 fen sehen Sie ebenfalls live. Die Veranstaltung ist von 23. bis 25. Se
 ptember täglich von 9.30 bis 18.00 Uhr geöffnet, der Eintritt ist FR
 EI! Alle Vorführer sind an allen 3 Tagen im Einsatz. MAGMA GmbH · 49
 71 Aurolzmünster · Tel. 07752.880.600 · www.magma-tools.at – w
 ww.vorfuehrtage.at\n \n\nWeitere Informationen erhalten Sie unter htt
 p://kunsthandwerk.artbeat.at/events/internationales-handwerker-treffen
DTSTART;TZID=Europe/Vienna:20110923T000000
DTEND;TZID=Europe/Vienna:20110925T235900
CATEGORIES:handwerker-treffen
LOCATION:Aurolzmünster
WEBSITE:http://www.vorfuehrtage.at
URL:http://www.vorfuehrtage.at
CONTACT:
ORGANIZER:MAGMA GmbH
ATTACH;FMTTYPE="image/jpeg":http://storage.ning.com/topology/rest/1.0/
 file/get/122582326?profile=original
ATTENDEE;ROLE=REQ-PARTICIPANT;PARTSTAT=ACCEPTED;RSVP=TRUE;CN=artbeat:h
 ttp://kunsthandwerk.artbeat.at/profile/04jn571ett22n
END:VEVENT
END:VCALENDAR
