BEGIN:VCALENDAR
PRODID:NingEventWidget-v1
VERSION:2.0
METHOD:PUBLISH
BEGIN:VTIMEZONE
TZID:Europe/Vienna
X-LIC-LOCATION:Europe/Vienna
BEGIN:DAYLIGHT
TZOFFSETFROM:+0100
TZOFFSETTO:+0200
TZNAME:CEST
DTSTART:19700329T020000
RRULE:FREQ=YEARLY;BYMONTH=3;BYDAY=-1SU
END:DAYLIGHT
BEGIN:STANDARD
TZOFFSETFROM:+0200
TZOFFSETTO:+0100
TZNAME:CET
DTSTART:19701025T030000
RRULE:FREQ=YEARLY;BYMONTH=10;BYDAY=-1SU
END:STANDARD
END:VTIMEZONE
BEGIN:VEVENT
UID:6444107:Event:45088
DTSTAMP:20260422T225128Z
SUMMARY:Künstler bei der Arbeit
DESCRIPTION:Das Atelier Allerhand Kunsthandwerk im Zentrum von Langen
 lois und die Künstlergruppe ART-WORK laden am 1. und 2. Juli 2017 zu
  einer ganz besonderen Veranstaltung:\n \nEin bunter Reigen Kunstscha
 ffender aus dem In- und Ausland verwandelt Teile des Kornplatzes sowie
  das Atelier Allerhand Kunsthandwerk in einen „Schauraum“ in dem B
 esucher die Entstehung von Kunstwerken und Handwerkstücken beobachten
  können.\n \nNatürlich können entstandene Werke, aber auch andere 
 Ausstellungsstücke der Kunstschaffenden Vorort erworben werden.\n \n
 Eröffnet wird das bunte Treiben von Herrn Bürgermeister Hubert Meisl
  am 1. Juli um 14 Uhr!\n \nJunge Gäste erwartet ein kreatives Kinder
 programm!\n \nHöhepunkt ist Samstagabend nach Sonnenuntergang, wenn 
 der Drache Láidir Laoch, jüngstes Werk des Drachenvaters KELT- Josef
  GRAF aufwacht. Die drei Meter hohe Figur aus Stahl wird sich erheben 
 und über den Köpfen des Publikums am Kornplatz Feuer speien.\n\nWann
 : 1. und 2. Juli 2017 jeweils ab 14 Uhr (nur bei Schönwetter)\n \nWo
 : 3550 Langenlois\nsüdlicher Bereich des Kornplatzes & Atelier Allerh
 and Kunsthandwerk\n\nWeitere Informationen erhalten Sie unter http://k
 unsthandwerk.artbeat.at/events/k-nstler-bei-der-arbeit
DTSTART;TZID=Europe/Vienna:20170701T140000
DTEND;TZID=Europe/Vienna:20170702T180000
CATEGORIES:schauarbeiten, kunstschaffende
LOCATION:Niederösterreich
WEBSITE:http://www.allerhand-kunsthandwerk.eu
URL:http://www.allerhand-kunsthandwerk.eu
CONTACT:atelier@allerhand-kunsthandwerk.eu
ORGANIZER;CN="Katharina Mavridou-Olson":http://kunsthandwerk.artbeat.a
 t/profile/KatharinaMavridouOlson
ATTACH;FMTTYPE="image/jpeg":http://storage.ning.com/topology/rest/1.0/
 file/get/122588142?profile=original
ATTENDEE;ROLE=REQ-PARTICIPANT;PARTSTAT=ACCEPTED;RSVP=TRUE;CN="Katharin
 a Mavridou-Olson":http://kunsthandwerk.artbeat.at/profile/KatharinaMav
 ridouOlson
END:VEVENT
END:VCALENDAR
