BEGIN:VCALENDAR
PRODID:NingEventWidget-v1
VERSION:2.0
METHOD:PUBLISH
BEGIN:VTIMEZONE
TZID:Europe/Vienna
X-LIC-LOCATION:Europe/Vienna
BEGIN:DAYLIGHT
TZOFFSETFROM:+0100
TZOFFSETTO:+0200
TZNAME:CEST
DTSTART:19700329T020000
RRULE:FREQ=YEARLY;BYMONTH=3;BYDAY=-1SU
END:DAYLIGHT
BEGIN:STANDARD
TZOFFSETFROM:+0200
TZOFFSETTO:+0100
TZNAME:CET
DTSTART:19701025T030000
RRULE:FREQ=YEARLY;BYMONTH=10;BYDAY=-1SU
END:STANDARD
END:VTIMEZONE
BEGIN:VEVENT
UID:6444107:Event:50947
DTSTAMP:20260423T033851Z
SUMMARY:Kunst + Handwerk am Spittelberg Wien
DESCRIPTION:Kunst+Handwerk am Spittelberg\r\n6 Termine sollte man in d
 iesem Sommer in Wien wieder vormerken: Von Mai bis Oktober, jeweils am
  ersten Wochenende im Monat, treffen im malerischen Ambiente der Spitt
 elberggasse Marktbesucher auf Künstler und Kunsthandwerker.\r\nDieser
  kleine Markt lebt von seinem hohen Anspruch an Authentizität und Qua
 lität des angebotenen Kunsthandwerks.\r\nÖffnungszeiten: Samstag 11-
 20 Uhr, Sonntag 10-18 Uhr\r\n\n\nWeitere Informationen erhalten Sie un
 ter http://kunsthandwerk.artbeat.at/events/kunst-handwerk-am-spittelbe
 rg-wien-863
DTSTART;TZID=Europe/Vienna:20180505T000000
DTEND;TZID=Europe/Vienna:20180506T235900
CATEGORIES:kunsthandwerksmarkt
LOCATION:Spittelberg, Wien
WEBSITE:http://www.spittelberg-markt.at
URL:http://www.spittelberg-markt.at
CONTACT:0699-11116717 - info(at)spittelberg-markt.at
ORGANIZER:Verein »Raum für Kunst + Handwerk« - Sigrid Johns
ATTACH;FMTTYPE="image/jpeg":http://storage.ning.com/topology/rest/1.0/
 file/get/122582837?profile=original
ATTENDEE;ROLE=REQ-PARTICIPANT;PARTSTAT=ACCEPTED;RSVP=TRUE;CN=artbeat:h
 ttp://kunsthandwerk.artbeat.at/profile/04jn571ett22n
END:VEVENT
END:VCALENDAR
