BEGIN:VCALENDAR
PRODID:NingEventWidget-v1
VERSION:2.0
METHOD:PUBLISH
BEGIN:VTIMEZONE
TZID:Europe/Vienna
X-LIC-LOCATION:Europe/Vienna
BEGIN:DAYLIGHT
TZOFFSETFROM:+0100
TZOFFSETTO:+0200
TZNAME:CEST
DTSTART:19700329T020000
RRULE:FREQ=YEARLY;BYMONTH=3;BYDAY=-1SU
END:DAYLIGHT
BEGIN:STANDARD
TZOFFSETFROM:+0200
TZOFFSETTO:+0100
TZNAME:CET
DTSTART:19701025T030000
RRULE:FREQ=YEARLY;BYMONTH=10;BYDAY=-1SU
END:STANDARD
END:VTIMEZONE
BEGIN:VEVENT
UID:6444107:Event:44373
DTSTAMP:20260423T040208Z
SUMMARY:Kunst im Park
DESCRIPTION:Liebe Handwerker/innen & Kunsthandwerker/innen!\nZum viert
 en Mal findet heuer der Kunstmarkt im Rahmen des TRAILS WORLD CUP\nsta
 tt. Der Stadtpark von Vöcklabruck bietet eine besondere Atmosphäre u
 m Kunst und\nHandwerk einem breiten Publikum anzubieten. Speziell beim
  Nachtmarkt am Samstag\nbietet der Park ein wunderbares Ambiente, der 
 Markt findet bei jeder Witterung statt.\nDie Stadt Vöcklabruck verfü
 gt über eine gute Infrastruktur, hohe Wohnqualität, schulische\nEinr
 ichtungen, große Einkaufsmöglichkeiten, viele sportliche und kulture
 lle Angebote,\nBezirksbehörde und eine rasche Verkehrsverbindung an d
 ie nahe Autobahn.\nIm Stadtpark wird zum vierten Mal der Markt abgehal
 ten und durch seine ausgewählten,\nqualitativ hohen und abwechslungsr
 eichen Warenangebote der Aussteller, sowie\ndem abgestimmten Rahmen-, 
 Kinder- und Familienprogramm ist der Markt bestimmt\nein Publikumsmagn
 et für jung & alt und nah & fern.\nVideoimpressionen aus dem Vorjahr:
  http://www.kunstimpark.com/kunst-im-park/btv/\nLage/Erreichbarkeit:\n
 Autobahn A1 Wien – Salzburg: Abfahrt Regau\nWestbahn Wien Westbahnho
 f – Salzburg Hbf: Haltestelle Vöcklabruck\nVeranstaltungszeiten: 8.
 + 9. Juli 2017\nSamstag: 15.00 – 23.00 Uhr mit Nachtmarkt\nSonntag: 
 10.00 – 18.00 Uhr\nAufbau/ Anlieferung / Abbau:\nAufgrund der begren
 zten Zufahrtszeiten ersuchen wir bei der Anlieferung der Stände\nund 
 Waren um zivilisiertes Verhalten der Aussteller und den Anweisungen de
 r Ordner\nzu folgen. Bitte zuerst die Waren und Stände auspacken und 
 gleich das Fahrzeug am\nvorgesehenen Parkplatz abstellen.\nAufbau am S
 amstag 8. Juli ab 10:00 – 14:00 Uhr\nAnschließend sind die Fahrzeug
 e ausnahmslos bis 14:00 Uhr auf dem vorgesehenen\nParkplatz außerhalb
  des Marktgeländes abzustellen. Wir ersuchen daher, die Waren\nund St
 ände an ihrem zugewiesenen Standplatz auszuladen und mit dem Fahrzeug
 \nwegzufahren.\nBewachung: Samstag/Sonntag\nDer Stand ist unbedingt ge
 gen Wind und Wetter abzusichern.\nAbbau: Sonntag 9. Juli nach Ende der
  Veranstaltung\nFür den Abbau gelten die selben Regeln, wie für den 
 Aufbau. Bitte zuerst die Waren\nund Stände zusammenpacken. Dann erst 
 das Fahrzeug holen und einladen!\nDa im letzten Jahr, die Standplätze
  sauber verlassen wurden, ersuchen wir dies auch\nweiter zu tun. Danke
 !\n\nWeitere Informationen erhalten Sie unter http://kunsthandwerk.art
 beat.at/events/kunst-im-park
DTSTART;TZID=Europe/Vienna:20170708T000000
DTEND;TZID=Europe/Vienna:20170709T235900
CATEGORIES:kunsthandwerksmarkt
LOCATION:Stadtpark Vöcklabruck
WEBSITE:http://www.kunstimpark.com
URL:http://www.kunstimpark.com
CONTACT:Sigrid Bergmann 0650-8290150 • info@kunstimpark.com
ORGANIZER:Kunst im Park
ATTACH;FMTTYPE="image/jpeg":http://storage.ning.com/topology/rest/1.0/
 file/get/122587703?profile=original
ATTENDEE;ROLE=REQ-PARTICIPANT;PARTSTAT=ACCEPTED;RSVP=TRUE;CN="Atelier 
 / Galerie Kunst und Perl":http://kunsthandwerk.artbeat.at/profile/Atel
 ierGalerieKunstundPerl
END:VEVENT
END:VCALENDAR
