BEGIN:VCALENDAR
PRODID:NingEventWidget-v1
VERSION:2.0
METHOD:PUBLISH
BEGIN:VTIMEZONE
TZID:Europe/Vienna
X-LIC-LOCATION:Europe/Vienna
BEGIN:DAYLIGHT
TZOFFSETFROM:+0100
TZOFFSETTO:+0200
TZNAME:CEST
DTSTART:19700329T020000
RRULE:FREQ=YEARLY;BYMONTH=3;BYDAY=-1SU
END:DAYLIGHT
BEGIN:STANDARD
TZOFFSETFROM:+0200
TZOFFSETTO:+0100
TZNAME:CET
DTSTART:19701025T030000
RRULE:FREQ=YEARLY;BYMONTH=10;BYDAY=-1SU
END:STANDARD
END:VTIMEZONE
BEGIN:VEVENT
UID:6444107:Event:148520
DTSTAMP:20260422T031618Z
SUMMARY:KUNST WERK TAGE Schloss Schallaburg
DESCRIPTION:2022 finden zum 8. Mal die KUNST WERK TAGE der WKN - Innun
 g der Kunsthandwerke in Kooperation mit der Schallaburg statt. Über 
 80 Designer und Kunsthandwerker aus Österreich stellen ihre Unikate 
 aus reiner Handarbeit im historischen Garten der Schallaburg aus. Gebo
 ten wird altes und seltenes Kunsthandwerk: Keramik, Schmuckdesign/Gold
 schmiede, Textil, Musikinstrumentenbau, Buchbinder, Uhrmacher, Holz- u
 nd Metallkunst, Glas.\r\nGenießen Sie ein musikalisches und kulinaris
 ches Rahmenprogramm! EINTRITT 3,50 € in den historischen Garten und 
 damit zu den KUNST WERK TAGEN! Für den Eintritt in die Burg und in di
 e Ausstellung gelten die regulären Eintrittspreise.\r\nJeweils von 9:
 00 bis 18:00\n\nWeitere Informationen erhalten Sie unter http://kunsth
 andwerk.artbeat.at/events/kunst-werk-tage-schloss-schallaburg-7
DTSTART;TZID=Europe/Vienna:20220813T000000
DTEND;TZID=Europe/Vienna:20220815T235900
CATEGORIES:kunsthandwerksmarkt
LOCATION:Schallaburg, Niederösterreich
WEBSITE:http://schallaburg.at/de/veranstaltungen/
URL:http://schallaburg.at/de/veranstaltungen/
CONTACT:0650-3737077 - almesberger(at)donausteindesign.com
ORGANIZER:WKNÖ Innung der Kunsthandwerke/Schloss Schallaburg - Siegli
 nde Almesberger
ATTACH;FMTTYPE="image/jpeg":http://storage.ning.com/topology/rest/1.0/
 file/get/122584836?profile=original
ATTENDEE;ROLE=REQ-PARTICIPANT;PARTSTAT=ACCEPTED;RSVP=TRUE;CN=artbeat:h
 ttp://kunsthandwerk.artbeat.at/profile/04jn571ett22n
END:VEVENT
END:VCALENDAR
