BEGIN:VCALENDAR
PRODID:NingEventWidget-v1
VERSION:2.0
METHOD:PUBLISH
BEGIN:VTIMEZONE
TZID:Europe/Vienna
X-LIC-LOCATION:Europe/Vienna
BEGIN:DAYLIGHT
TZOFFSETFROM:+0100
TZOFFSETTO:+0200
TZNAME:CEST
DTSTART:19700329T020000
RRULE:FREQ=YEARLY;BYMONTH=3;BYDAY=-1SU
END:DAYLIGHT
BEGIN:STANDARD
TZOFFSETFROM:+0200
TZOFFSETTO:+0100
TZNAME:CET
DTSTART:19701025T030000
RRULE:FREQ=YEARLY;BYMONTH=10;BYDAY=-1SU
END:STANDARD
END:VTIMEZONE
BEGIN:VEVENT
UID:6444107:Event:153578
DTSTAMP:20260419T190108Z
SUMMARY:KUNST WERK TAGE Schloss Schallaburg
DESCRIPTION:2024 finden zum 10. Mal die KUNST WERK TAGE der WKN - Innu
 ng der Kunsthandwerke in Kooperation mit der Schallaburg statt. Über
  80 Designer und Kunsthandwerker aus Österreich stellen ihre Unikate
  aus reiner Handarbeit im historischen Garten der Schallaburg aus. Geb
 oten wird altes und seltenes Kunsthandwerk: Keramik, Schmuckdesign/Gol
 dschmiede, Textil, Musikinstrumentenbau, Buchbinder, Uhrmacher, Holz- 
 und Metallkunst, Glas.\r\nGenießen Sie ein musikalisches und kulinari
 sches Rahmenprogramm! EINTRITT 3,50 € in den historischen Garten und
  damit zu den KUNST WERK TAGEN! Für den Eintritt in die Burg und in d
 ie Ausstellung gelten die regulären Eintrittspreise.\r\nJeweils von 9
 :00 bis 18:00\r\n 2024 - Wir feiern! 50 Jahre Ausstellungen  auf der 
 Schallaburg \r\nKunsthandwerkerinnen und Designer präsentieren ihre 
 Unikate 2024 erstmalig auch im Frühjahr auf der Schallaburg. Von der 
 Idee bis zum fertigen Kunstwerk wird alles aus einer Hand geboten. Kla
 sse statt Masse, regional statt global: Keramik, Steinzeug & Porzellan
  | Schmuck | Textiles & Accessoires | Schmieden & Schweißen | Gläser
 ne Werkstätten | Holz | Seifen | u. v. m \r\nKUNST WERK TAGE im Frü
 hjahr 26. – 28. April 2024\r\nKUNST WERK TAGE im Sommer 9. – 11. A
 ugust 2024\n\nWeitere Informationen erhalten Sie unter http://kunsthan
 dwerk.artbeat.at/events/kunst-werk-tage-schloss-schallaburg-9
DTSTART;TZID=Europe/Vienna:20240809T000000
DTEND;TZID=Europe/Vienna:20240811T235900
CATEGORIES:kunsthandwerksmarkt
LOCATION:Schallaburg, Niederösterreich
WEBSITE:http://schallaburg.at/de/veranstaltungen/
URL:http://schallaburg.at/de/veranstaltungen/
CONTACT:0650-3737077 - almesberger(at)donausteindesign.com
ORGANIZER:Schloss Schallaburg
ATTACH;FMTTYPE="image/jpeg":https://storage.ning.com/topology/rest/1.0
 /file/get/12346840869?profile=original
ATTENDEE;ROLE=REQ-PARTICIPANT;PARTSTAT=ACCEPTED;RSVP=TRUE;CN=artbeat:h
 ttp://kunsthandwerk.artbeat.at/profile/04jn571ett22n
END:VEVENT
END:VCALENDAR
