BEGIN:VCALENDAR
PRODID:NingEventWidget-v1
VERSION:2.0
METHOD:PUBLISH
BEGIN:VTIMEZONE
TZID:Europe/Vienna
X-LIC-LOCATION:Europe/Vienna
BEGIN:DAYLIGHT
TZOFFSETFROM:+0100
TZOFFSETTO:+0200
TZNAME:CEST
DTSTART:19700329T020000
RRULE:FREQ=YEARLY;BYMONTH=3;BYDAY=-1SU
END:DAYLIGHT
BEGIN:STANDARD
TZOFFSETFROM:+0200
TZOFFSETTO:+0100
TZNAME:CET
DTSTART:19701025T030000
RRULE:FREQ=YEARLY;BYMONTH=10;BYDAY=-1SU
END:STANDARD
END:VTIMEZONE
BEGIN:VEVENT
UID:6444107:Event:148461
DTSTAMP:20260420T174715Z
SUMMARY:Kunsthandwerkmarkt in Wien-Meidling
DESCRIPTION:Sg. Aussteller!\nDie Freunde der Meidlinger Hauptstrasse v
 eranstalten am Samstag dem 7.05.2022 auf der unteren Meidlinger Haupts
 trasse einen Kunsthandwerksmarkt.\nDer Markt findet von 8:00 Uhr  bis
  18:00 Uhr statt.\nWir freuen uns auf eure Teilname bzw. auf euren Bes
 uch\n\nWeitere Informationen erhalten Sie unter http://kunsthandwerk.a
 rtbeat.at/events/kunsthandwerkmarkt-in-wien-meidling
DTSTART;TZID=Europe/Vienna:20220507T000000
DTEND;TZID=Europe/Vienna:20220507T235900
CATEGORIES:verkaufsausstellung
LOCATION:Fußgängerzohne Meidling
WEBSITE:
URL:
CONTACT:0650 / 99 24 216 &amp; h.j.woechtl@a1.net
ORGANIZER;CN="Hans-Jürgen Wöchtl":http://kunsthandwerk.artbeat.at/pr
 ofile/HansJuergenWoechtl
ATTACH;FMTTYPE="image/jpeg":
ATTENDEE;ROLE=REQ-PARTICIPANT;PARTSTAT=ACCEPTED;RSVP=TRUE;CN="Hans-Jü
 rgen Wöchtl":http://kunsthandwerk.artbeat.at/profile/HansJuergenWoech
 tl
END:VEVENT
END:VCALENDAR
