BEGIN:VCALENDAR
PRODID:NingEventWidget-v1
VERSION:2.0
METHOD:PUBLISH
BEGIN:VTIMEZONE
TZID:Europe/Vienna
X-LIC-LOCATION:Europe/Vienna
BEGIN:DAYLIGHT
TZOFFSETFROM:+0100
TZOFFSETTO:+0200
TZNAME:CEST
DTSTART:19700329T020000
RRULE:FREQ=YEARLY;BYMONTH=3;BYDAY=-1SU
END:DAYLIGHT
BEGIN:STANDARD
TZOFFSETFROM:+0200
TZOFFSETTO:+0100
TZNAME:CET
DTSTART:19701025T030000
RRULE:FREQ=YEARLY;BYMONTH=10;BYDAY=-1SU
END:STANDARD
END:VTIMEZONE
BEGIN:VEVENT
UID:6444107:Event:44607
DTSTAMP:20260419T215515Z
SUMMARY:Kunsthandwerks- und Genussmarkt in der HofbÃ¼hne Tegernbach
DESCRIPTION:Eine der beliebtesten Veranstaltungen ist in den letzten J
 ahren der ADVENT IN TEGERNBACH, mit seinen ausgewÃ¤hlten, reichen und 
 qualitativen kunsthandwerklichen SchÃ¶pfungen und dem neuen Genussange
 bot geworden.Â Der unverwechselbare Rahmen der HOFBÃœHNE TEGERNBACH un
 d dessen vornehmer Advent BeschmÃ¼ckung machen den Adventmarkt zu eine
 m echten vorweihnachtlichen Erlebnis fÃ¼r alle Besucher. Adventmarktan
 gebot und musikalische Auftritte vereinen sich zu einer der besten Ver
 anstaltungen des Landes fÃ¼r die ganze Familie. Dazu zÃ¤hlt auch die b
 ekannte Gastlichkeit des Hauses.Die Kunsthandwerker bieten sowohl fÃ¼r
  den traditionellen, wie fÃ¼r den modernen Besucher Interessantes und 
 Originelles an. Kunsthandwerk aus der Region, wie von weit weg angerei
 sten GÃ¤sten wurde monatelang ausgesucht:Glas, Keramik, Holz, Leder, M
 etall, Malerei, Instrumente, Kinderspiele, Schmuck, Textil, Blaudruck 
 Taschen, HÃ¼te, Naturseifen, Christbaumschmuck, Weihnachtsdekoration u
 nd vieles mehrLebendiges Kunsthandwerk wird an mehreren PlÃ¤tzen gezei
 gt:Glasblasen / Glasperlendrehen / Blaudrucken / Skulpturen schnitzen 
 /Die â€žBibliothek der Provinzâ€œ zeigt Neuerscheinungen und KinderbÃ¼
 cher.Â Neben KÃ¶stlichkeiten der Genussregion gibt es Zelten Backen fÃ
 ¼r Kinder und Erwachsene. Kinder haben auch die MÃ¶glichkeit Weihnacht
 sgeschenke fÃ¼r Erwachsene zu fertigen. Licht ins Dunkel Laternen der 
 HTL Wels.Auch heuer wird es wieder schÃ¶ne musikalische Darbietungen d
 er LMS Grieskirchen geben.Und fÃ¼r das leibliche Wohl gibt es Landl â€
 “ SpezialitÃ¤ten, warme KÃ¼che, heiÃŸe GetrÃ¤nke, Kuchen & Kaffee und 
 den berÃ¼hmten Tegernbacher SonntagsfrÃ¼hschoppen mit BratwÃ¼rstel.\n1
 0:00 - 18:00\nhttp://www.hofbuehne.at\n\nWeitere Informationen erhalte
 n Sie unter http://kunsthandwerk.artbeat.at/events/kunsthandwerks-und-
 genussmarkt-in-der-hofb-hne-tegernbach-3
DTSTART;TZID=Europe/Vienna:20171209T000000
DTEND;TZID=Europe/Vienna:20171210T235900
CATEGORIES:kunsthandwerksmarkt
LOCATION:Tegernbach
WEBSITE:http://hofbuehne.at
URL:http://hofbuehne.at
CONTACT:07248-66958 - info(at)hofbuehne.at
ORGANIZER:HofbÃ¼hne Tegernbach
ATTACH;FMTTYPE="image/jpeg":http://storage.ning.com/topology/rest/1.0/
 file/get/122582456?profile=original
ATTENDEE;ROLE=REQ-PARTICIPANT;PARTSTAT=ACCEPTED;RSVP=TRUE;CN=artbeat:h
 ttp://kunsthandwerk.artbeat.at/profile/04jn571ett22n
END:VEVENT
END:VCALENDAR
