BEGIN:VCALENDAR
PRODID:NingEventWidget-v1
VERSION:2.0
METHOD:PUBLISH
BEGIN:VTIMEZONE
TZID:Europe/Vienna
X-LIC-LOCATION:Europe/Vienna
BEGIN:DAYLIGHT
TZOFFSETFROM:+0100
TZOFFSETTO:+0200
TZNAME:CEST
DTSTART:19700329T020000
RRULE:FREQ=YEARLY;BYMONTH=3;BYDAY=-1SU
END:DAYLIGHT
BEGIN:STANDARD
TZOFFSETFROM:+0200
TZOFFSETTO:+0100
TZNAME:CET
DTSTART:19701025T030000
RRULE:FREQ=YEARLY;BYMONTH=10;BYDAY=-1SU
END:STANDARD
END:VTIMEZONE
BEGIN:VEVENT
UID:6444107:Event:41460
DTSTAMP:20260423T013725Z
SUMMARY:Kunsthandwerksmarkt Kufstein
DESCRIPTION:AusgewÃ¤hlte KÃ¼nstler und Kunsthandwerker stellen aus. FÃ
 ¼r Unterhaltung fÃ¼r die kleinen und groÃŸen Besucher ist an beiden Ta
 gen bestens gesorgt. Ein Fest fÃ¼r alle Sinne und ein Ort der Entspann
 ung und der MuÃŸe.\n\n\nWeitere Informationen erhalten Sie unter http:
 //kunsthandwerk.artbeat.at/events/kunsthandwerksmarkt-kufstein-1
DTSTART;TZID=Europe/Vienna:20170708T000000
DTEND;TZID=Europe/Vienna:20170709T235900
CATEGORIES:kunsthandwerksmarkt
LOCATION:Kufstein, Tirol
WEBSITE:http://www.kunsthandwerksmarkt.info
URL:http://www.kunsthandwerksmarkt.info
CONTACT:0664-5103074 - theoret(at)sbg.at
ORGANIZER:Rettenwander Theo
ATTACH;FMTTYPE="image/jpeg":http://storage.ning.com/topology/rest/1.0/
 file/get/122586667?profile=original
ATTENDEE;ROLE=REQ-PARTICIPANT;PARTSTAT=ACCEPTED;RSVP=TRUE;CN=artbeat:h
 ttp://kunsthandwerk.artbeat.at/profile/04jn571ett22n
END:VEVENT
END:VCALENDAR
