BEGIN:VCALENDAR
PRODID:NingEventWidget-v1
VERSION:2.0
METHOD:PUBLISH
BEGIN:VTIMEZONE
TZID:Europe/Vienna
X-LIC-LOCATION:Europe/Vienna
BEGIN:DAYLIGHT
TZOFFSETFROM:+0100
TZOFFSETTO:+0200
TZNAME:CEST
DTSTART:19700329T020000
RRULE:FREQ=YEARLY;BYMONTH=3;BYDAY=-1SU
END:DAYLIGHT
BEGIN:STANDARD
TZOFFSETFROM:+0200
TZOFFSETTO:+0100
TZNAME:CET
DTSTART:19701025T030000
RRULE:FREQ=YEARLY;BYMONTH=10;BYDAY=-1SU
END:STANDARD
END:VTIMEZONE
BEGIN:VEVENT
UID:6444107:Event:150762
DTSTAMP:20260420T214324Z
SUMMARY:Kunsthandwerksmarkt Mühlviertel - Südböhmen
DESCRIPTION:Bereits zum fünften Mal findet am 09. und 10. September 
 2023 der Kunsthandwerksmarkt Mühlviertel-Südböhmen in Windhaag stat
 t.\nWir freuen uns schon auf den nächsten Markt und laden Sie herzlic
 h dazu ein!\n\nWeitere Informationen erhalten Sie unter http://kunstha
 ndwerk.artbeat.at/events/kunsthandwerksmarkt-m-hlviertel-s-db-hmen-1
DTSTART;TZID=Europe/Vienna:20230909T110000
DTEND;TZID=Europe/Vienna:20230910T180000
CATEGORIES:kunsthandwerksmarkt
LOCATION:Windhaag bei Freistadt
WEBSITE:http://www.greenbeltcenter.eu/highlights-aktuelle-veranstaltun
 gen/9-10september-2023-kunsthandwerksmarkt-muehlviertel-suedboehmen/
URL:http://www.greenbeltcenter.eu/highlights-aktuelle-veranstaltungen/
 9-10september-2023-kunsthandwerksmarkt-muehlviertel-suedboehmen/
CONTACT:kunsthandwerksmarkt@gmail.com
ORGANIZER;CN="liebenswertes Windhaag b.Fr.":http://kunsthandwerk.artbe
 at.at/profile/TourismuskernWindhaagbFr
ATTACH;FMTTYPE="image/jpeg":https://storage.ning.com/topology/rest/1.0
 /file/get/10929672082?profile=original
ATTENDEE;ROLE=REQ-PARTICIPANT;PARTSTAT=ACCEPTED;RSVP=TRUE;CN="liebensw
 ertes Windhaag b.Fr.":http://kunsthandwerk.artbeat.at/profile/Tourismu
 skernWindhaagbFr
END:VEVENT
END:VCALENDAR
