BEGIN:VCALENDAR
PRODID:NingEventWidget-v1
VERSION:2.0
METHOD:PUBLISH
BEGIN:VTIMEZONE
TZID:Europe/Vienna
X-LIC-LOCATION:Europe/Vienna
BEGIN:DAYLIGHT
TZOFFSETFROM:+0100
TZOFFSETTO:+0200
TZNAME:CEST
DTSTART:19700329T020000
RRULE:FREQ=YEARLY;BYMONTH=3;BYDAY=-1SU
END:DAYLIGHT
BEGIN:STANDARD
TZOFFSETFROM:+0200
TZOFFSETTO:+0100
TZNAME:CET
DTSTART:19701025T030000
RRULE:FREQ=YEARLY;BYMONTH=10;BYDAY=-1SU
END:STANDARD
END:VTIMEZONE
BEGIN:VEVENT
UID:6444107:Event:2614
DTSTAMP:20260423T040126Z
SUMMARY:Kunsthandwerksmarkt Ried im Innkreis
DESCRIPTION:Zum ersten Mal findet in der belebten Bezirksstadt Ried ei
 n Kunsthandwerksmarkt statt. Er wurde mit großem Aufwand vorbereitet 
 und lässt einiges erwarten.\n\nWeitere Informationen erhalten Sie unt
 er http://kunsthandwerk.artbeat.at/events/kunsthandwerksmarkt-ried-im-
 innkreis
DTSTART;TZID=Europe/Vienna:20111014T000000
DTEND;TZID=Europe/Vienna:20111016T235900
CATEGORIES:kunsthandwerksmarkt
LOCATION:Ried im Innkreis
WEBSITE:http://www.kunsthandwerks-toepfermaerkte.com/
URL:http://www.kunsthandwerks-toepfermaerkte.com/
CONTACT:
ORGANIZER:Artekera
ATTACH;FMTTYPE="image/jpeg":http://storage.ning.com/topology/rest/1.0/
 file/get/122582367?profile=original
ATTENDEE;ROLE=REQ-PARTICIPANT;PARTSTAT=ACCEPTED;RSVP=TRUE;CN=artbeat:h
 ttp://kunsthandwerk.artbeat.at/profile/04jn571ett22n
END:VEVENT
END:VCALENDAR
