BEGIN:VCALENDAR
PRODID:NingEventWidget-v1
VERSION:2.0
METHOD:PUBLISH
BEGIN:VTIMEZONE
TZID:Europe/Vienna
X-LIC-LOCATION:Europe/Vienna
BEGIN:DAYLIGHT
TZOFFSETFROM:+0100
TZOFFSETTO:+0200
TZNAME:CEST
DTSTART:19700329T020000
RRULE:FREQ=YEARLY;BYMONTH=3;BYDAY=-1SU
END:DAYLIGHT
BEGIN:STANDARD
TZOFFSETFROM:+0200
TZOFFSETTO:+0100
TZNAME:CET
DTSTART:19701025T030000
RRULE:FREQ=YEARLY;BYMONTH=10;BYDAY=-1SU
END:STANDARD
END:VTIMEZONE
BEGIN:VEVENT
UID:6444107:Event:153566
DTSTAMP:20260419T173850Z
SUMMARY:Kunsthandwerksmarkt SchÃ¶rfling am Attersee
DESCRIPTION:Fr & Sa 10-19 Uhr â€¢ So 10-18 Uhr \r\nIdyllisch direkt an
  der Esplanade gelegen, findet heuer zum 8. Mal einÂ groÃŸer Kunsthand
 werksmarkt statt. Spaziere entlang der MarktstÃ¤nde mit Blick auf denÂ
  Hafen und das malerische Schloss Kammer, entdecke die kreative Arbeit
  unsererÂ Handwerker. Du findest ausgefallene Schmuckunikate, Keramikw
 aren aller Art,Â Gedrechseltes, Bilderrahmen aus Altholz, textile Arbe
 iten und vieles mehr. GegenuÌˆberÂ vom Reitstall gibt es einen groÃŸen
  Parkplatz fuÌˆr Marktbesucher. Nutze die spezielleÂ Gelegenheit zum E
 inkaufen, entdecke ein originelles, hochwertiges Geschenk.\n\nWeitere 
 Informationen erhalten Sie unter http://kunsthandwerk.artbeat.at/event
 s/kunsthandwerksmarkt-sch-rfling-am-attersee-5
DTSTART;TZID=Europe/Vienna:20240705T000000
DTEND;TZID=Europe/Vienna:20240707T235900
CATEGORIES:kunsthandwerksmarkt
LOCATION:SchÃ¶rfling
WEBSITE:http://www.diekunsthandwerker.at
URL:http://www.diekunsthandwerker.at
CONTACT:0650-4252886 - diekunsthandwerker(at)aon.at
ORGANIZER:dieKunsthandwerker
ATTACH;FMTTYPE="image/jpeg":https://storage.ning.com/topology/rest/1.0
 /file/get/778768133?profile=original
ATTENDEE;ROLE=REQ-PARTICIPANT;PARTSTAT=ACCEPTED;RSVP=TRUE;CN=artbeat:h
 ttp://kunsthandwerk.artbeat.at/profile/04jn571ett22n
END:VEVENT
END:VCALENDAR
