BEGIN:VCALENDAR
PRODID:NingEventWidget-v1
VERSION:2.0
METHOD:PUBLISH
BEGIN:VTIMEZONE
TZID:Europe/Vienna
X-LIC-LOCATION:Europe/Vienna
BEGIN:DAYLIGHT
TZOFFSETFROM:+0100
TZOFFSETTO:+0200
TZNAME:CEST
DTSTART:19700329T020000
RRULE:FREQ=YEARLY;BYMONTH=3;BYDAY=-1SU
END:DAYLIGHT
BEGIN:STANDARD
TZOFFSETFROM:+0200
TZOFFSETTO:+0100
TZNAME:CET
DTSTART:19701025T030000
RRULE:FREQ=YEARLY;BYMONTH=10;BYDAY=-1SU
END:STANDARD
END:VTIMEZONE
BEGIN:VEVENT
UID:6444107:Event:43753
DTSTAMP:20260423T025031Z
SUMMARY:Kunsthandwerksmarkt Schörfling am Attersee
DESCRIPTION:Fr & Sa 9-19 Uhr • So 9-18 Uhr\nIdyllisch direkt an der 
 Seepromenade gelegen, findet heuer zum ersten Mal ein großer Kunsthan
 dwerksmarkt statt. Flanieren Sie entlang der Marktstände mit Blick au
 f den Hafen und das malerische Schloss Kammer, entdecken Sie die kreat
 ive Arbeit unserer Handwerker. Sie finden ausgefallene Schmuckunikate,
  Keramikwaren aller Art, Bilder, Gedrechseltes, schöne Dinge aus Alth
 olz, textile Arbeiten und vieles mehr. Abends findet parallel das beli
 ebte und gut besuchte Hafenfest statt, schon ab 12 Uhr sorgt der Skicl
 ub Schörfling für leibliches Wohl.\n\nWeitere Informationen erhalten
  Sie unter http://kunsthandwerk.artbeat.at/events/kunsthandwerksmarkt-
 schorfling-am-attersee
DTSTART;TZID=Europe/Vienna:20170714T000000
DTEND;TZID=Europe/Vienna:20170716T235900
CATEGORIES:kunsthandwerksmarkt
LOCATION:Schörfling
WEBSITE:http://www.diekunsthandwerker.at
URL:http://www.diekunsthandwerker.at
CONTACT:0650-4252886 - diekunsthandwerker(at)aon.at
ORGANIZER:dieKunsthandwerker
ATTACH;FMTTYPE="image/jpeg":http://storage.ning.com/topology/rest/1.0/
 file/get/122588077?profile=original
ATTENDEE;ROLE=REQ-PARTICIPANT;PARTSTAT=ACCEPTED;RSVP=TRUE;CN=artbeat:h
 ttp://kunsthandwerk.artbeat.at/profile/04jn571ett22n
END:VEVENT
END:VCALENDAR
