BEGIN:VCALENDAR
PRODID:NingEventWidget-v1
VERSION:2.0
METHOD:PUBLISH
BEGIN:VTIMEZONE
TZID:Europe/Vienna
X-LIC-LOCATION:Europe/Vienna
BEGIN:DAYLIGHT
TZOFFSETFROM:+0100
TZOFFSETTO:+0200
TZNAME:CEST
DTSTART:19700329T020000
RRULE:FREQ=YEARLY;BYMONTH=3;BYDAY=-1SU
END:DAYLIGHT
BEGIN:STANDARD
TZOFFSETFROM:+0200
TZOFFSETTO:+0100
TZNAME:CET
DTSTART:19701025T030000
RRULE:FREQ=YEARLY;BYMONTH=10;BYDAY=-1SU
END:STANDARD
END:VTIMEZONE
BEGIN:VEVENT
UID:6444107:Event:112
DTSTAMP:20260423T110625Z
SUMMARY:Kunsthandwerksmarkt Stainz
DESCRIPTION:16. Kunsthandwerksmarkt in Stainz in der Weststeiermark:\n
 ausgewählte KunsthandwerkerInnen zeigen\nFormat in Textilien, Holz, M
 etall und Glaskunst,\nSchmuck und ... Naturkosmetik, Seifen, Bienenwac
 hskerzen\n... regionale Bio-Bäuerinnen verwöhnen mit\nvegetarischen 
 Genüssen und Köstlichkeiten vom\nLamm, Rind, Huhn und Fisch.\nMehlsp
 eisen und FairTrade Kaffee\n \n\nWeitere Informationen erhalten Sie u
 nter http://kunsthandwerk.artbeat.at/events/kunsthandwerksmarkt-stainz
DTSTART;TZID=Europe/Vienna:20110924T000000
DTEND;TZID=Europe/Vienna:20110925T235900
CATEGORIES:kunsthandwerksmarkt
LOCATION:Stainz, Hauptplatz
WEBSITE:
URL:
CONTACT:
ORGANIZER:Steirische Initiative Kunsthandwerk
ATTACH;FMTTYPE="image/jpeg":http://storage.ning.com/topology/rest/1.0/
 file/get/122582216?profile=original
ATTENDEE;ROLE=REQ-PARTICIPANT;PARTSTAT=ACCEPTED;RSVP=TRUE;CN=artbeat:h
 ttp://kunsthandwerk.artbeat.at/profile/04jn571ett22n
END:VEVENT
END:VCALENDAR
