BEGIN:VCALENDAR
PRODID:NingEventWidget-v1
VERSION:2.0
METHOD:PUBLISH
BEGIN:VTIMEZONE
TZID:Europe/Vienna
X-LIC-LOCATION:Europe/Vienna
BEGIN:DAYLIGHT
TZOFFSETFROM:+0100
TZOFFSETTO:+0200
TZNAME:CEST
DTSTART:19700329T020000
RRULE:FREQ=YEARLY;BYMONTH=3;BYDAY=-1SU
END:DAYLIGHT
BEGIN:STANDARD
TZOFFSETFROM:+0200
TZOFFSETTO:+0100
TZNAME:CET
DTSTART:19701025T030000
RRULE:FREQ=YEARLY;BYMONTH=10;BYDAY=-1SU
END:STANDARD
END:VTIMEZONE
BEGIN:VEVENT
UID:6444107:Event:1567
DTSTAMP:20260423T052424Z
SUMMARY:Kunsthandwerksmarkt Wels
DESCRIPTION:An die Tradition früherer Töpfermärkte anknüpfend find
 et mit viel Elan und großem Aufwand der 1. Kunsthandwerksmarkt in die
 ser geschäftigen oberösterreichischen Bezirksstadt statt.\n\nWeitere
  Informationen erhalten Sie unter http://kunsthandwerk.artbeat.at/even
 ts/kunsthandwerksmarkt-wels
DTSTART;TZID=Europe/Vienna:20111007T000000
DTEND;TZID=Europe/Vienna:20111009T235900
CATEGORIES:kunsthandwerksmarkt
LOCATION:Wels
WEBSITE:http://www.kunsthandwerks-toepfermaerkte.com/
URL:http://www.kunsthandwerks-toepfermaerkte.com/
CONTACT:
ORGANIZER:Artekera
ATTACH;FMTTYPE="image/jpeg":http://storage.ning.com/topology/rest/1.0/
 file/get/122582357?profile=original
ATTENDEE;ROLE=REQ-PARTICIPANT;PARTSTAT=ACCEPTED;RSVP=TRUE;CN=artbeat:h
 ttp://kunsthandwerk.artbeat.at/profile/04jn571ett22n
END:VEVENT
END:VCALENDAR
