BEGIN:VCALENDAR
PRODID:NingEventWidget-v1
VERSION:2.0
METHOD:PUBLISH
BEGIN:VTIMEZONE
TZID:Europe/Vienna
X-LIC-LOCATION:Europe/Vienna
BEGIN:DAYLIGHT
TZOFFSETFROM:+0100
TZOFFSETTO:+0200
TZNAME:CEST
DTSTART:19700329T020000
RRULE:FREQ=YEARLY;BYMONTH=3;BYDAY=-1SU
END:DAYLIGHT
BEGIN:STANDARD
TZOFFSETFROM:+0200
TZOFFSETTO:+0100
TZNAME:CET
DTSTART:19701025T030000
RRULE:FREQ=YEARLY;BYMONTH=10;BYDAY=-1SU
END:STANDARD
END:VTIMEZONE
BEGIN:VEVENT
UID:6444107:Event:55364
DTSTAMP:20260422T053707Z
SUMMARY:Kunsthandwerksmarkt Wiener Neustadt
DESCRIPTION:Do bis Fr 10-18 Uhr • Sa 10-17 Uhr \r\nDer langjährige,
  traditionelle Töpfer- und Kunsthandwerksmarkt findet auf diesem bele
 bten Platz im Herzen von Wiener Neustadt statt. Der große und farbenp
 rächtige Markt lockt Besucher aus dem ganzen Bezirk an. Der  “Nasc
 hmarkt” und die ausgedehnten Einkaufsgasserln laden zu einem Einkauf
 sbummel und Verweilen ein. Finden Sie ihr Lieblingsstück, ob aus Holz
  oder Keramik, Loden, Blaudruck oder Filz, trendige Schmuckkreationen,
  feine Seifen oder Zirbenkissen, es ist bestimmt etwas dabei für Sie.
 \n\nWeitere Informationen erhalten Sie unter http://kunsthandwerk.artb
 eat.at/events/kunsthandwerksmarkt-wiener-neustadt-3
DTSTART;TZID=Europe/Vienna:20191003T000000
DTEND;TZID=Europe/Vienna:20191005T235900
CATEGORIES:kunsthandwerksmarkt
LOCATION:Wiener Neustadt
WEBSITE:http://www.diekunsthandwerker.at
URL:http://www.diekunsthandwerker.at
CONTACT:0650-4252886 - diekunsthandwerker(at)aon.at
ORGANIZER:dieKunsthandwerker
ATTACH;FMTTYPE="image/jpeg":http://storage.ning.com/topology/rest/1.0/
 file/get/122587671?profile=original
ATTENDEE;ROLE=REQ-PARTICIPANT;PARTSTAT=ACCEPTED;RSVP=TRUE;CN=artbeat:h
 ttp://kunsthandwerk.artbeat.at/profile/04jn571ett22n
END:VEVENT
END:VCALENDAR
