BEGIN:VCALENDAR
PRODID:NingEventWidget-v1
VERSION:2.0
METHOD:PUBLISH
BEGIN:VTIMEZONE
TZID:Europe/Vienna
X-LIC-LOCATION:Europe/Vienna
BEGIN:DAYLIGHT
TZOFFSETFROM:+0100
TZOFFSETTO:+0200
TZNAME:CEST
DTSTART:19700329T020000
RRULE:FREQ=YEARLY;BYMONTH=3;BYDAY=-1SU
END:DAYLIGHT
BEGIN:STANDARD
TZOFFSETFROM:+0200
TZOFFSETTO:+0100
TZNAME:CET
DTSTART:19701025T030000
RRULE:FREQ=YEARLY;BYMONTH=10;BYDAY=-1SU
END:STANDARD
END:VTIMEZONE
BEGIN:VEVENT
UID:6444107:Event:50864
DTSTAMP:20260422T225352Z
SUMMARY:LINUM 2018 - KUNST HAND WERK zwischen Herbst und Advent
DESCRIPTION:Qualitativ hochwertiges Kunsthandwerk bietet das zauberhaf
 te Flair der LINUM Ausstellung vom 24. bis 25. November 2018 auf Schlo
 ss Weitra.\nEin vielfältiges und individuelles Angebot von Kunsthandw
 erkern wird dem Besucher geboten. Die Kinder können sich beim Töpfer
 n und Kinderschminken kreativ verausgaben. Für literarischen Hochgenu
 ss sorgt die Bibliothek der Provinz.\nWir freuen uns auf Ihren Besuch!
 \nÖffnungszeiten an beiden Tagen: 10:00-18:00 Uhr\n\nWeitere Informat
 ionen erhalten Sie unter http://kunsthandwerk.artbeat.at/events/linum-
 2018-kunst-hand-werk-zwischen-herbst-und-advent
DTSTART;TZID=Europe/Vienna:20181124T100000
DTEND;TZID=Europe/Vienna:20181125T180000
CATEGORIES:kunsthandwerksmarkt
LOCATION:Niederösterreich
WEBSITE:http://www.linum-verein.at
URL:http://www.linum-verein.at
CONTACT:info@linum-verein.at
ORGANIZER;CN="Barbara Wandl-Haider":http://kunsthandwerk.artbeat.at/pr
 ofile/BarbaraWandlHaider
ATTACH;FMTTYPE="image/jpeg":http://storage.ning.com/topology/rest/1.0/
 file/get/122588521?profile=original
ATTENDEE;ROLE=REQ-PARTICIPANT;PARTSTAT=ACCEPTED;RSVP=TRUE;CN="Barbara 
 Wandl-Haider":http://kunsthandwerk.artbeat.at/profile/BarbaraWandlHaid
 er
END:VEVENT
END:VCALENDAR
