BEGIN:VCALENDAR
PRODID:NingEventWidget-v1
VERSION:2.0
METHOD:PUBLISH
BEGIN:VTIMEZONE
TZID:Europe/Vienna
X-LIC-LOCATION:Europe/Vienna
BEGIN:DAYLIGHT
TZOFFSETFROM:+0100
TZOFFSETTO:+0200
TZNAME:CEST
DTSTART:19700329T020000
RRULE:FREQ=YEARLY;BYMONTH=3;BYDAY=-1SU
END:DAYLIGHT
BEGIN:STANDARD
TZOFFSETFROM:+0200
TZOFFSETTO:+0100
TZNAME:CET
DTSTART:19701025T030000
RRULE:FREQ=YEARLY;BYMONTH=10;BYDAY=-1SU
END:STANDARD
END:VTIMEZONE
BEGIN:VEVENT
UID:6444107:Event:2621
DTSTAMP:20260423T075348Z
SUMMARY:Martinimarkt HOFKIRCHEN/Trattnach
DESCRIPTION:Der Arbeitskreis Vereinsleben veranstaltet den 4. Hofkirch
 ner Martinimarkt in der Hauptschule Hofkirchen.Ăśber 70 Aussteller prĂ
 ¤sentieren Kunsthandwerk und bĂ¤uerliche Produkte und bieten sie zum K
 auf an.\nSA 10:00 â€“ 18:00\nSO 9:00 â€“ 16:00\nhttp://www.hofkirchen-
 trattnach.at/system/web/default.aspx\nÂ \nÂ \n\nWeitere Informationen 
 erhalten Sie unter http://kunsthandwerk.artbeat.at/events/martinimarkt
 -hofkirchen-trattnach
DTSTART;TZID=Europe/Vienna:20111105T000000
DTEND;TZID=Europe/Vienna:20111106T235900
CATEGORIES:kunsthandwerksmarkt
LOCATION:Hofkirchen an der Trattnach
WEBSITE:http://maps.google.at/maps/ms?msid=214857037176782167008.00049
 e98854b782f7e2c1&msa=0&ll=48.223415,13.745098&spn=0.073194,0.15398
URL:http://maps.google.at/maps/ms?msid=214857037176782167008.00049e988
 54b782f7e2c1&msa=0&ll=48.223415,13.745098&spn=0.073194,0.15398
CONTACT:
ORGANIZER:Gemeindeamt Hofkirchen
ATTACH;FMTTYPE="image/jpeg":http://storage.ning.com/topology/rest/1.0/
 file/get/122582405?profile=original
ATTENDEE;ROLE=REQ-PARTICIPANT;PARTSTAT=ACCEPTED;RSVP=TRUE;CN=artbeat:h
 ttp://kunsthandwerk.artbeat.at/profile/04jn571ett22n
END:VEVENT
END:VCALENDAR
