BEGIN:VCALENDAR
PRODID:NingEventWidget-v1
VERSION:2.0
METHOD:PUBLISH
BEGIN:VTIMEZONE
TZID:Europe/Vienna
X-LIC-LOCATION:Europe/Vienna
BEGIN:DAYLIGHT
TZOFFSETFROM:+0100
TZOFFSETTO:+0200
TZNAME:CEST
DTSTART:19700329T020000
RRULE:FREQ=YEARLY;BYMONTH=3;BYDAY=-1SU
END:DAYLIGHT
BEGIN:STANDARD
TZOFFSETFROM:+0200
TZOFFSETTO:+0100
TZNAME:CET
DTSTART:19701025T030000
RRULE:FREQ=YEARLY;BYMONTH=10;BYDAY=-1SU
END:STANDARD
END:VTIMEZONE
BEGIN:VEVENT
UID:6444107:Event:152031
DTSTAMP:20260421T075724Z
SUMMARY:Muttertagsmarkt am Grazer Hauptplatz
DESCRIPTION:Ein buntes Potpourri an Geschenkideen für den Muttertag w
 ird geboten. Kunsthandwerker:innen bieten Waren wir Dekoartikeln aus M
 aterialien wie Glas, Holz, Keramik und Porzellan, Leder, Stoff und Tex
 tilien, Metall und Stein an. Es wird feine und edle Schmuckstücke geb
 en, Kerzenständer oder Brotdosen, Kleidung, aber auch Seifen. Einfach
  vorbeikommen und Schmökern. Mit etwas Glück finden Sie ein passende
 s Muttertagsgeschenk, Mitbringsel oder etwas Schönes für sich selbst
 .\r\nProgramm am Grazer Muttertagsmarkt\r\nAuch am Muttertagsmarkt gib
 t es ein buntes Theater- und Musikprogramm:\r\n\r\n11. Mai von 14 – 
 17 Uhr: Grazer Swing Ensemble\r\n12. Mai von 14 – 17 Uhr: Straßenth
 eater mit Jakotopia\r\n13. Mai von ab 14 Uhr: Sosamma Frauenchor (Leit
 ung: Vesna Petkovic)\r\n\r\nAußerdem finden täglich in der Zeit von 
 14:00 bis 17:00 Uhr Workshops für Kinder statt.\n\nWeitere Informatio
 nen erhalten Sie unter http://kunsthandwerk.artbeat.at/events/mutterta
 gsmarkt-am-grazer-hauptplatz
DTSTART;TZID=Europe/Vienna:20230511T000000
DTEND;TZID=Europe/Vienna:20230513T235900
CATEGORIES:kunsthandwerksmarkt
LOCATION:Hauptplatz
WEBSITE:
URL:
CONTACT:0664-3574522 • windhof.at@gmx.at
ORGANIZER:Kärntner Initiative Kunst Hand Werk - Werner Hofstadler
ATTACH;FMTTYPE="image/jpeg":https://storage.ning.com/topology/rest/1.0
 /file/get/11004368454?profile=original
ATTENDEE;ROLE=REQ-PARTICIPANT;PARTSTAT=ACCEPTED;RSVP=TRUE;CN=artbeat:h
 ttp://kunsthandwerk.artbeat.at/profile/04jn571ett22n
END:VEVENT
END:VCALENDAR
