BEGIN:VCALENDAR
PRODID:NingEventWidget-v1
VERSION:2.0
METHOD:PUBLISH
BEGIN:VTIMEZONE
TZID:Europe/Vienna
X-LIC-LOCATION:Europe/Vienna
BEGIN:DAYLIGHT
TZOFFSETFROM:+0100
TZOFFSETTO:+0200
TZNAME:CEST
DTSTART:19700329T020000
RRULE:FREQ=YEARLY;BYMONTH=3;BYDAY=-1SU
END:DAYLIGHT
BEGIN:STANDARD
TZOFFSETFROM:+0200
TZOFFSETTO:+0100
TZNAME:CET
DTSTART:19701025T030000
RRULE:FREQ=YEARLY;BYMONTH=10;BYDAY=-1SU
END:STANDARD
END:VTIMEZONE
BEGIN:VEVENT
UID:6444107:Event:148511
DTSTAMP:20260422T042852Z
SUMMARY:Töpfermarkt Mondsee
DESCRIPTION:Mo bis Mi 10-19 Uhr\r\nDer Mondseer Töpfermarkt findet he
 uer bereits zum 22. Mal statt und wird Keramikliebhaber begeistern. Hi
 er finden Sie handgefertigte Tassen und Teller, Zier- und Gartenkerami
 k mit leuchtenden Glasuren, ebenso hauchdünnes Porzellan, Rakubrand, 
 Weinkühler, Kunstobjekte und vieles mehr. Der feine gut sortierte Mar
 kt direkt vor der Basilika ist ein Highlight im Töpfermarktgeschehen,
  umrahmt von bunten Mondseehäusern und Gastgärten lässt es sich gut
  bummeln. Auch heuer findet wieder der beliebte Töpferwettbewerb stat
 t, Thema 2022: SCHIFF\n\nWeitere Informationen erhalten Sie unter http
 ://kunsthandwerk.artbeat.at/events/t-pfermarkt-mondsee-5
DTSTART;TZID=Europe/Vienna:20220808T000000
DTEND;TZID=Europe/Vienna:20220810T235900
CATEGORIES:töpfermarkt
LOCATION:Mondsee, Oberösterreich
WEBSITE:http://www.diekunsthandwerker.at
URL:http://www.diekunsthandwerker.at
CONTACT:0650-4252886 - diekunsthandwerker(at)aon.at
ORGANIZER:dieKunsthandwerker
ATTACH;FMTTYPE="image/jpeg":https://storage.ning.com/topology/rest/1.0
 /file/get/780783841?profile=original
ATTENDEE;ROLE=REQ-PARTICIPANT;PARTSTAT=ACCEPTED;RSVP=TRUE;CN=artbeat:h
 ttp://kunsthandwerk.artbeat.at/profile/04jn571ett22n
END:VEVENT
END:VCALENDAR
