BEGIN:VCALENDAR
PRODID:NingEventWidget-v1
VERSION:2.0
METHOD:PUBLISH
BEGIN:VTIMEZONE
TZID:Europe/Vienna
X-LIC-LOCATION:Europe/Vienna
BEGIN:DAYLIGHT
TZOFFSETFROM:+0100
TZOFFSETTO:+0200
TZNAME:CEST
DTSTART:19700329T020000
RRULE:FREQ=YEARLY;BYMONTH=3;BYDAY=-1SU
END:DAYLIGHT
BEGIN:STANDARD
TZOFFSETFROM:+0200
TZOFFSETTO:+0100
TZNAME:CET
DTSTART:19701025T030000
RRULE:FREQ=YEARLY;BYMONTH=10;BYDAY=-1SU
END:STANDARD
END:VTIMEZONE
BEGIN:VEVENT
UID:6444107:Event:2110
DTSTAMP:20260423T040014Z
SUMMARY:Töpfermarkt + Kunsthandwerk Eferding
DESCRIPTION:Der langjährige und erfolgreiche Markt findet wieder am H
 auptplatz von Eferding statt - inmitten der beliebten Donauregion mit 
 seinen vielen Touristen, Ausflüglern und Radfahrern.\nAm 24.10 Beginn
  12:00 sonst 9:00\nhttp://www.kunsthandwerks-toepfermaerkte.com/\n\nWe
 itere Informationen erhalten Sie unter http://kunsthandwerk.artbeat.at
 /events/topfermarkt-kunsthandwerk-eferding
DTSTART;TZID=Europe/Vienna:20111024T000000
DTEND;TZID=Europe/Vienna:20111026T235900
CATEGORIES:töpfermarkt
LOCATION:Eferding
WEBSITE:http://maps.google.at/maps/ms?msid=214857037176782167008.00049
 e98854b782f7e2c1&msa=0&ll=48.307404,14.035034&spn=0.145691,0.297318
URL:http://maps.google.at/maps/ms?msid=214857037176782167008.00049e988
 54b782f7e2c1&msa=0&ll=48.307404,14.035034&spn=0.145691,0.297318
CONTACT:
ORGANIZER:Artekera
ATTACH;FMTTYPE="image/jpeg":http://storage.ning.com/topology/rest/1.0/
 file/get/122582361?profile=original
ATTENDEE;ROLE=REQ-PARTICIPANT;PARTSTAT=ACCEPTED;RSVP=TRUE;CN=artbeat:h
 ttp://kunsthandwerk.artbeat.at/profile/04jn571ett22n
END:VEVENT
END:VCALENDAR
