BEGIN:VCALENDAR
PRODID:NingEventWidget-v1
VERSION:2.0
METHOD:PUBLISH
BEGIN:VTIMEZONE
TZID:Europe/Vienna
X-LIC-LOCATION:Europe/Vienna
BEGIN:DAYLIGHT
TZOFFSETFROM:+0100
TZOFFSETTO:+0200
TZNAME:CEST
DTSTART:19700329T020000
RRULE:FREQ=YEARLY;BYMONTH=3;BYDAY=-1SU
END:DAYLIGHT
BEGIN:STANDARD
TZOFFSETFROM:+0200
TZOFFSETTO:+0100
TZNAME:CET
DTSTART:19701025T030000
RRULE:FREQ=YEARLY;BYMONTH=10;BYDAY=-1SU
END:STANDARD
END:VTIMEZONE
BEGIN:VEVENT
UID:6444107:Event:12506
DTSTAMP:20260422T224558Z
SUMMARY:Töpfermarkt + Kunsthandwerksmarkt Bad Vöslau
DESCRIPTION:Dieser sehr gut eingeführte Markt in dem bekannten Weinku
 rort an der Thermenlinie im Süden Wiens findet bereits zum neunten Ma
 l statt. Wie immer freuen sich die Keramiker und Kunsthandwerker auf d
 as zahlreiche und interessierte Publikum in Bad Vöslau.\n\nWeitere In
 formationen erhalten Sie unter http://kunsthandwerk.artbeat.at/events/
 topfermarkt-kunsthandwerksmarkt-bad-voslau
DTSTART;TZID=Europe/Vienna:20130628T000000
DTEND;TZID=Europe/Vienna:20130630T235900
CATEGORIES:kunsthandwerksmarkt
LOCATION:Bad Vöslau
WEBSITE:http://www.kunsthandwerks-toepfermaerkte.com/
URL:http://www.kunsthandwerks-toepfermaerkte.com/
CONTACT:
ORGANIZER:Artekera
ATTACH;FMTTYPE="image/jpeg":http://storage.ning.com/topology/rest/1.0/
 file/get/122583880?profile=original
ATTENDEE;ROLE=REQ-PARTICIPANT;PARTSTAT=ACCEPTED;RSVP=TRUE;CN=artbeat:h
 ttp://kunsthandwerk.artbeat.at/profile/04jn571ett22n
END:VEVENT
END:VCALENDAR
