BEGIN:VCALENDAR
PRODID:NingEventWidget-v1
VERSION:2.0
METHOD:PUBLISH
BEGIN:VTIMEZONE
TZID:Europe/Vienna
X-LIC-LOCATION:Europe/Vienna
BEGIN:DAYLIGHT
TZOFFSETFROM:+0100
TZOFFSETTO:+0200
TZNAME:CEST
DTSTART:19700329T020000
RRULE:FREQ=YEARLY;BYMONTH=3;BYDAY=-1SU
END:DAYLIGHT
BEGIN:STANDARD
TZOFFSETFROM:+0200
TZOFFSETTO:+0100
TZNAME:CET
DTSTART:19701025T030000
RRULE:FREQ=YEARLY;BYMONTH=10;BYDAY=-1SU
END:STANDARD
END:VTIMEZONE
BEGIN:VEVENT
UID:6444107:Event:43761
DTSTAMP:20260423T045838Z
SUMMARY:Töpfermarkt Mondsee
DESCRIPTION:Mo bis Mi 9-19 Uhr\nDer Mondseer Töpfermarkt findet heuer
  bereits zum 17. Mal statt und wird Keramikliebhaber begeistern. Hier 
 finden Sie handgefertigte Tassen und Teller, Zier- und Gartenkeramik m
 it leuchtenden Glasuren ebenso hauchdünnes Porzellan, Rakubrand, Wein
 kühler, Kunstobjekte und vieles mehr. Der feine und überschaubare Ma
 rkt direkt vor der Basilika ist ein Highlight im Töpfermarktgeschehen
 , umrahmt von bunten Mondseehäusern und Gastgärten lässt es sich gu
 t bummeln.\n\nWeitere Informationen erhalten Sie unter http://kunsthan
 dwerk.artbeat.at/events/topfermarkt-mondsee-1
DTSTART;TZID=Europe/Vienna:20170807T000000
DTEND;TZID=Europe/Vienna:20170809T235900
CATEGORIES:töpfermarkt
LOCATION:Mondsee, Oberösterreich
WEBSITE:http://www.diekunsthandwerker.at
URL:http://www.diekunsthandwerker.at
CONTACT:0650-4252886 - diekunsthandwerker(at)aon.at
ORGANIZER:dieKunsthandwerker
ATTACH;FMTTYPE="image/jpeg":http://storage.ning.com/topology/rest/1.0/
 file/get/122587620?profile=original
ATTENDEE;ROLE=REQ-PARTICIPANT;PARTSTAT=ACCEPTED;RSVP=TRUE;CN=artbeat:h
 ttp://kunsthandwerk.artbeat.at/profile/04jn571ett22n
END:VEVENT
END:VCALENDAR
