BEGIN:VCALENDAR
PRODID:NingEventWidget-v1
VERSION:2.0
METHOD:PUBLISH
BEGIN:VTIMEZONE
TZID:Europe/Vienna
X-LIC-LOCATION:Europe/Vienna
BEGIN:DAYLIGHT
TZOFFSETFROM:+0100
TZOFFSETTO:+0200
TZNAME:CEST
DTSTART:19700329T020000
RRULE:FREQ=YEARLY;BYMONTH=3;BYDAY=-1SU
END:DAYLIGHT
BEGIN:STANDARD
TZOFFSETFROM:+0200
TZOFFSETTO:+0100
TZNAME:CET
DTSTART:19701025T030000
RRULE:FREQ=YEARLY;BYMONTH=10;BYDAY=-1SU
END:STANDARD
END:VTIMEZONE
BEGIN:VEVENT
UID:6444107:Event:4202
DTSTAMP:20260423T063133Z
SUMMARY:Weihnachtsmarkt Schloss Mühldorf
DESCRIPTION:Weihnachtliche Romantik vor herrschaftlicher Kulisse von 1
 0. November bis 13. November 2011  Alle Jahre wieder lassen sich Besuc
 her aus aller Welt vom besonderen Weihnachtsflair des Kultur- und Weih
 nachtmarktes Schloss Mühldorf verzaubern. Der Lichterglanz der Schlos
 sanlage erscheint als perfekte Kulisse für das romantische Adventdorf
  und lockt mit Besinnlichem, Bekömmlichem und österreichischem Kunst
 handwerk zur Weihnachtszeit. Ein zarter Duf von Lebkuchen, Punsch und 
 Maroni weht über den Meierhof von Schloss Mühldorf und lädt fernab 
 von Hektik und Trubel zum Verweilen in vorweihnachtlicher Atmosphäre.
  Insgesamt verwöhnen 80 Aussteller mit Schwerpunkt österreichisches 
 Kunsthandwerk von 10. November bis 13. November die Besucher. Kulinari
 sche Spezialitäten, Konzerte, eine lebendige Krippe, das Weihnachtspo
 stamt und Kinderprogramme runden den stimmungsvollen Einkaufsbummel im
  geselligen Beisammensein ab.  Kultur- und Weihnachtsmarkt Schloss Mü
 hldorf 10. November bis 13. November 2011 10. November (Standeröffnun
 g ohne Programm) 15:00 Uhr bis 20:00 Uhr – kein Eintritt 11. Novembe
 r von 14:00 bis 20.00 Uhr - Eintritt Euro 4,00 inkl. Programm 12. & 13
 . November von 10.00 bis 18.00 Uhr – Eintritt Euro 4,00 inkl. Progra
 mm \n\nWeitere Informationen erhalten Sie unter http://kunsthandwerk.a
 rtbeat.at/events/weihnachtsmarkt-schloss-m-hldorf
DTSTART;TZID=Europe/Vienna:20111110T150000
DTEND;TZID=Europe/Vienna:20111113T200000
CATEGORIES:weihnachtsmarkt
LOCATION:Feldkirchen/Donau
WEBSITE:http://wasserquelle.jimdo.com
URL:http://wasserquelle.jimdo.com
CONTACT:069919142099
ORGANIZER;CN="Heidrun Hammerschmid":http://kunsthandwerk.artbeat.at/pr
 ofile/HeidrunHammerschmid
ATTACH;FMTTYPE="image/jpeg":http://storage.ning.com/topology/rest/1.0/
 file/get/122582935?profile=original
ATTENDEE;ROLE=REQ-PARTICIPANT;PARTSTAT=ACCEPTED;RSVP=TRUE;CN="Heidrun 
 Hammerschmid":http://kunsthandwerk.artbeat.at/profile/HeidrunHammersch
 mid
END:VEVENT
END:VCALENDAR
