BEGIN:VCALENDAR
PRODID:NingEventWidget-v1
VERSION:2.0
METHOD:PUBLISH
BEGIN:VTIMEZONE
TZID:Europe/Vienna
X-LIC-LOCATION:Europe/Vienna
BEGIN:DAYLIGHT
TZOFFSETFROM:+0100
TZOFFSETTO:+0200
TZNAME:CEST
DTSTART:19700329T020000
RRULE:FREQ=YEARLY;BYMONTH=3;BYDAY=-1SU
END:DAYLIGHT
BEGIN:STANDARD
TZOFFSETFROM:+0200
TZOFFSETTO:+0100
TZNAME:CET
DTSTART:19701025T030000
RRULE:FREQ=YEARLY;BYMONTH=10;BYDAY=-1SU
END:STANDARD
END:VTIMEZONE
BEGIN:VEVENT
UID:6444107:Event:12563
DTSTAMP:20260423T124137Z
SUMMARY:Wintermarkt am Pfarrplatz LINZ
DESCRIPTION:Bereits zum sechsten Mal findet der Wintermarkt am neugest
 alteten Marktplatz im Zentrum von Linz statt. Das Erscheinungsbild des
  Marktes ist geprägt von Kunsthandwerkern mit selbstgefertigten Produ
 kten und Verköstigungsständen mit qualitätsvollen und weitgehend re
 gionalen (Bio-)Erzeugnissen.\nTäglich 11:00 – 20:00\n\n\nWeitere In
 formationen erhalten Sie unter http://kunsthandwerk.artbeat.at/events/
 wintermarkt-am-pfarrplatz-linz-1
DTSTART;TZID=Europe/Vienna:20131123T000000
DTEND;TZID=Europe/Vienna:20131223T235900
CATEGORIES:kunsthandwerksmarkt
LOCATION:Linz
WEBSITE:http://wintermarkt-pfarrplatz.at
URL:http://wintermarkt-pfarrplatz.at
CONTACT:
ORGANIZER:IG Pfarrplatz
ATTACH;FMTTYPE="image/jpeg":http://storage.ning.com/topology/rest/1.0/
 file/get/122583888?profile=original
ATTENDEE;ROLE=REQ-PARTICIPANT;PARTSTAT=ACCEPTED;RSVP=TRUE;CN=artbeat:h
 ttp://kunsthandwerk.artbeat.at/profile/04jn571ett22n
END:VEVENT
END:VCALENDAR
