BEGIN:VCALENDAR
PRODID:NingEventWidget-v1
VERSION:2.0
METHOD:PUBLISH
BEGIN:VTIMEZONE
TZID:Europe/Vienna
X-LIC-LOCATION:Europe/Vienna
BEGIN:DAYLIGHT
TZOFFSETFROM:+0100
TZOFFSETTO:+0200
TZNAME:CEST
DTSTART:19700329T020000
RRULE:FREQ=YEARLY;BYMONTH=3;BYDAY=-1SU
END:DAYLIGHT
BEGIN:STANDARD
TZOFFSETFROM:+0200
TZOFFSETTO:+0100
TZNAME:CET
DTSTART:19701025T030000
RRULE:FREQ=YEARLY;BYMONTH=10;BYDAY=-1SU
END:STANDARD
END:VTIMEZONE
BEGIN:VEVENT
UID:6444107:Event:59777
DTSTAMP:20260423T110309Z
SUMMARY:Wintermarkt am Pfarrplatz LINZ
DESCRIPTION:Bereits zum dreizehnten Mal findet der Wintermarkt am neug
 estalteten Marktplatz im Zentrum von Linz statt. Das Erscheinungsbild 
 des Marktes ist geprägt von Kunsthandwerkern mit selbstgefertigten Pr
 odukten und Verköstigungsständen mit qualitätsvollen und weitgehend
  regionalen (Bio-)Erzeugnissen.\r\nTäglich 11:00 – 21:00\r\n\n\nWei
 tere Informationen erhalten Sie unter http://kunsthandwerk.artbeat.at/
 events/wintermarkt-am-pfarrplatz-linz-8
DTSTART;TZID=Europe/Vienna:20201121T000000
DTEND;TZID=Europe/Vienna:20201223T235900
CATEGORIES:kunsthandwerksmarkt
LOCATION:Linz
WEBSITE:http://wintermarkt-pfarrplatz.at
URL:http://wintermarkt-pfarrplatz.at
CONTACT:0732778788 - himmetsberger(at)wintermarkt-pfarrplatz.at
ORGANIZER:IG Pfarrplatz - Bernd Himmetsberger
ATTACH;FMTTYPE="image/jpeg":http://storage.ning.com/topology/rest/1.0/
 file/get/122583888?profile=original
ATTENDEE;ROLE=REQ-PARTICIPANT;PARTSTAT=ACCEPTED;RSVP=TRUE;CN=artbeat:h
 ttp://kunsthandwerk.artbeat.at/profile/04jn571ett22n
END:VEVENT
END:VCALENDAR
