BEGIN:VCALENDAR
PRODID:NingEventWidget-v1
VERSION:2.0
METHOD:PUBLISH
BEGIN:VTIMEZONE
TZID:Europe/Vienna
X-LIC-LOCATION:Europe/Vienna
BEGIN:DAYLIGHT
TZOFFSETFROM:+0100
TZOFFSETTO:+0200
TZNAME:CEST
DTSTART:19700329T020000
RRULE:FREQ=YEARLY;BYMONTH=3;BYDAY=-1SU
END:DAYLIGHT
BEGIN:STANDARD
TZOFFSETFROM:+0200
TZOFFSETTO:+0100
TZNAME:CET
DTSTART:19701025T030000
RRULE:FREQ=YEARLY;BYMONTH=10;BYDAY=-1SU
END:STANDARD
END:VTIMEZONE
BEGIN:VEVENT
UID:6444107:Event:34098
DTSTAMP:20260424T153715Z
SUMMARY:1. KreativHandWerk & Upcycling Markt in der \" Villa zum KopfF
 reiRaum\"
DESCRIPTION:nachhaltig denkende und sehr kreative Austeller bieten hie
 r Ihre wunderbar gefertigten Sachen.  *Keramik *Seidenfilzen *Recycelt
 e Elektroteile werden DesignerRadios *Kreatives aus der Imkerei *Kalmu
 kdesign *Patchwork *Up & Recycling von Leder, Pelzen und anderen Mater
 ialien *Tees, Cremen Badesalz aus Kräutern Und vieles mehr\nFr. 14.10
 . ab 13 Uhr      \nSa 15. & So 16.10. von 10-18\n\nWeitere Informat
 ionen erhalten Sie unter https://kunsthandwerk.artbeat.at/events/1-kre
 ativhandwerk-upcycling-markt-in-der-villa-zum-kopffreiraum
DTSTART;TZID=Europe/Vienna:20161014T124500
DTEND;TZID=Europe/Vienna:20161016T180000
CATEGORIES:kunsthandwerksmarkt
LOCATION:Niederösterreich Waldviertel
WEBSITE:http://www.villadelcarlo.blogspot.com
URL:http://www.villadelcarlo.blogspot.com
CONTACT:0650-3284634 - Dagmar.del-Carlo(at)gmx.at
ORGANIZER;CN="Dagmar del Carlo":https://kunsthandwerk.artbeat.at/profi
 le/DagmardelCarlo
ATTACH;FMTTYPE="image/jpeg":
ATTENDEE;ROLE=REQ-PARTICIPANT;PARTSTAT=ACCEPTED;RSVP=TRUE;CN="Dagmar d
 el Carlo":https://kunsthandwerk.artbeat.at/profile/DagmardelCarlo
END:VEVENT
END:VCALENDAR
