BEGIN:VCALENDAR
PRODID:NingEventWidget-v1
VERSION:2.0
METHOD:PUBLISH
BEGIN:VTIMEZONE
TZID:Europe/Vienna
X-LIC-LOCATION:Europe/Vienna
BEGIN:DAYLIGHT
TZOFFSETFROM:+0100
TZOFFSETTO:+0200
TZNAME:CEST
DTSTART:19700329T020000
RRULE:FREQ=YEARLY;BYMONTH=3;BYDAY=-1SU
END:DAYLIGHT
BEGIN:STANDARD
TZOFFSETFROM:+0200
TZOFFSETTO:+0100
TZNAME:CET
DTSTART:19701025T030000
RRULE:FREQ=YEARLY;BYMONTH=10;BYDAY=-1SU
END:STANDARD
END:VTIMEZONE
BEGIN:VEVENT
UID:6444107:Event:12719
DTSTAMP:20260425T021258Z
SUMMARY:14. Internationale Keramiktage Klagenfurt
DESCRIPTION:Die Stadt Klagenfurt am Wörthersee und die Kärntner Init
 iative Kunst Hand Werk ARGE Töpfermarkt veranstalten 2013 den 14. Tö
 pfermarkt. Bei diesem Töpfermarkt werden ca. 85 Töpfer und künstler
 isch tätige Keramiker aus ganz Europa 3 Tage lang am wunderschön neu
  gestalteten Neuen Platz in Klagenfurt am Wörthersee, ihre handgearbe
 iteten Töpferwaren und Keramiken anbieten. Die schöne Altstadt von K
 lagenfurt zieht im Sommer sehr viele Besucher an, die in unserer Stadt
  verweilen , schauen, bewundern und auch kaufen. Ein reichhaltiges Rah
 menprogramm mit Musik, Handwerkerstraße, Kindertöpfern werden Jung u
 nd Alt begeistern. Raku Brand Vorführungen , Porzellanmalen , Scheibe
 ntöpfer usw. 9:00 – 18:00\n\nWeitere Informationen erhalten Sie unt
 er https://kunsthandwerk.artbeat.at/events/14-internationale-keramikta
 ge-klagenfurt
DTSTART;TZID=Europe/Vienna:20130801T000000
DTEND;TZID=Europe/Vienna:20130803T235900
CATEGORIES:kunsthandwerksmarkt
LOCATION:Klagenfurt
WEBSITE:http://www.toepfermarkt.keramik-mo.at/
URL:http://www.toepfermarkt.keramik-mo.at/
CONTACT:
ORGANIZER:Kärntner Initiative Kunst Hand Werk
ATTACH;FMTTYPE="image/jpeg":http://storage.ning.com/topology/rest/1.0/
 file/get/122583905?profile=original
ATTENDEE;ROLE=REQ-PARTICIPANT;PARTSTAT=ACCEPTED;RSVP=TRUE;CN=artbeat:h
 ttps://kunsthandwerk.artbeat.at/profile/04jn571ett22n
END:VEVENT
END:VCALENDAR
