BEGIN:VCALENDAR
PRODID:NingEventWidget-v1
VERSION:2.0
METHOD:PUBLISH
BEGIN:VTIMEZONE
TZID:Europe/Vienna
X-LIC-LOCATION:Europe/Vienna
BEGIN:DAYLIGHT
TZOFFSETFROM:+0100
TZOFFSETTO:+0200
TZNAME:CEST
DTSTART:19700329T020000
RRULE:FREQ=YEARLY;BYMONTH=3;BYDAY=-1SU
END:DAYLIGHT
BEGIN:STANDARD
TZOFFSETFROM:+0200
TZOFFSETTO:+0100
TZNAME:CET
DTSTART:19701025T030000
RRULE:FREQ=YEARLY;BYMONTH=10;BYDAY=-1SU
END:STANDARD
END:VTIMEZONE
BEGIN:VEVENT
UID:6444107:Event:150590
DTSTAMP:20260424T164311Z
SUMMARY:27. Osterausstellung mit Kinderprogramm
DESCRIPTION:Kunstvolle Ostereier, österliches Kunsthandwerk, kulinari
 sche Köstlichkeiten und frühlinghafte Dekorationen für Haus und Gar
 ten stimmen unsere BesucherInnen ganz auf den Frühling und die wärme
 re Jahreszeit ein.\nRund 50 KunsthandwerkerInnen präsentieren Handgea
 rbeitetes und treffen in Farrach auf Menschen, die ihre Arbeit schätz
 en!\nHandwerksvorführungen, Kinderaktionen, Streichelzoo und mehr run
 den das beliebte Programm in Farrach ab.\n\nWeitere Informationen erha
 lten Sie unter https://kunsthandwerk.artbeat.at/events/27-osterausstel
 lung-mit-kinderprogramm
DTSTART;TZID=Europe/Vienna:20230317T000000
DTEND;TZID=Europe/Vienna:20230319T235900
CATEGORIES:kunsthandwerksmarkt
LOCATION:Zeltweg-West, Schloß Farrach
WEBSITE:http://facebook.com/osterausstellung, www.schlossfarrach.at/ku
 ltur/
URL:http://facebook.com/osterausstellung, www.schlossfarrach.at/kultur
 /
CONTACT:0676-4030340, kultur@schlossfarrach.at
ORGANIZER;CN="Silvia Hartleb":https://kunsthandwerk.artbeat.at/profile
 /SilviaHartleb
ATTACH;FMTTYPE="image/jpeg":https://storage.ning.com/topology/rest/1.0
 /file/get/10954311288?profile=original
ATTENDEE;ROLE=REQ-PARTICIPANT;PARTSTAT=ACCEPTED;RSVP=TRUE;CN="Silvia H
 artleb":https://kunsthandwerk.artbeat.at/profile/SilviaHartleb
END:VEVENT
END:VCALENDAR
