BEGIN:VCALENDAR
PRODID:NingEventWidget-v1
VERSION:2.0
METHOD:PUBLISH
BEGIN:VTIMEZONE
TZID:Europe/Vienna
X-LIC-LOCATION:Europe/Vienna
BEGIN:DAYLIGHT
TZOFFSETFROM:+0100
TZOFFSETTO:+0200
TZNAME:CEST
DTSTART:19700329T020000
RRULE:FREQ=YEARLY;BYMONTH=3;BYDAY=-1SU
END:DAYLIGHT
BEGIN:STANDARD
TZOFFSETFROM:+0200
TZOFFSETTO:+0100
TZNAME:CET
DTSTART:19701025T030000
RRULE:FREQ=YEARLY;BYMONTH=10;BYDAY=-1SU
END:STANDARD
END:VTIMEZONE
BEGIN:VEVENT
UID:6444107:Event:149662
DTSTAMP:20260424T135447Z
SUMMARY:Advent im Rosenthal
DESCRIPTION:adventmarkt-bischofshofen%20verkleinert.pdf\n\nWeitere Inf
 ormationen erhalten Sie unter https://kunsthandwerk.artbeat.at/events/
 advent-im-rosenthal
DTSTART;TZID=Europe/Vienna:20221202T130000
DTEND;TZID=Europe/Vienna:20221202T200000
CATEGORIES:advent-kunsthandwerksmarkt
LOCATION:Bischofshofen, Schanzengelände
WEBSITE:
URL:
CONTACT:gerhard.dembski@sbg.at 0043650/3562476
ORGANIZER;CN="Gerhard Dembski":https://kunsthandwerk.artbeat.at/profil
 e/GerhardDembski920
ATTACH;FMTTYPE="image/jpeg":https://storage.ning.com/topology/rest/1.0
 /file/get/10655990864?profile=original
ATTENDEE;ROLE=REQ-PARTICIPANT;PARTSTAT=ACCEPTED;RSVP=TRUE;CN="Gerhard 
 Dembski":https://kunsthandwerk.artbeat.at/profile/GerhardDembski920
END:VEVENT
END:VCALENDAR
