BEGIN:VCALENDAR
PRODID:NingEventWidget-v1
VERSION:2.0
METHOD:PUBLISH
BEGIN:VTIMEZONE
TZID:Europe/Vienna
X-LIC-LOCATION:Europe/Vienna
BEGIN:DAYLIGHT
TZOFFSETFROM:+0100
TZOFFSETTO:+0200
TZNAME:CEST
DTSTART:19700329T020000
RRULE:FREQ=YEARLY;BYMONTH=3;BYDAY=-1SU
END:DAYLIGHT
BEGIN:STANDARD
TZOFFSETFROM:+0200
TZOFFSETTO:+0100
TZNAME:CET
DTSTART:19701025T030000
RRULE:FREQ=YEARLY;BYMONTH=10;BYDAY=-1SU
END:STANDARD
END:VTIMEZONE
BEGIN:VEVENT
UID:6444107:Event:13828
DTSTAMP:20260424T164901Z
SUMMARY:ARCHE NOAH Pflanzenmarkt + Kunsthandwerksmarkt Schiltern
DESCRIPTION:Ã–sterreichs GrÃ¶ÃŸter Bio-RaritÃ¤tenmarkt- Ein groÃŸer Ta
 g fÃ¼r Liebhaber der Vielfalt! Dieser Tag im ARCHE NOAH Schaugarten in
  Schiltern/NiederÃ¶sterreich ist ein groÃŸer Tag fÃ¼r alle, die RaritÃ
 ¤ten lieben und wissen, welche SchÃ¤tze sie auf dieser RaritÃ¤tenbÃ¶rs
 e finden kÃ¶nnen. GemÃ¼se, KrÃ¤uter, Beeren, Stauden & Saatgut kÃ¶nnen
  gekauft oder mit ARCHE NOAH Mitgliedern auf einem der grÃ¶ÃŸten Tausc
 hmÃ¤rkte Ã–sterreichs getauscht werden.  Neben den vielen Pflanzen-StÃ
 ¤nden erwartet die BesucherInnen ein Kunsthandwerksmarkt, eine â€žSchm
 ankerlstraÃŸeâ€œ bietet KÃ¶stlichkeiten in BioqualitÃ¤t und ein kleine
 r Markt aus Biobauern mit frischen Vielfaltsprodukten sowie veredelte 
 Kostbarkeiten aus RaritÃ¤ten laden zum Flanieren und Entdecken ein. Au
 ch als Familienausflug ein Erlebnis. FÃ¼r Kinder werden eine FAMILIENf
 Ã¼hrung sowie ein Mitmachprogramm angeboten.\n\nWeitere Informationen 
 erhalten Sie unter https://kunsthandwerk.artbeat.at/events/arche-noah-
 pflanzenmarkt-kunsthandwerksmarkt
DTSTART;TZID=Europe/Vienna:20130501T100000
DTEND;TZID=Europe/Vienna:20130501T180000
CATEGORIES:pflanzentauschmarkt, "+", kunsthandwerksmarkt
LOCATION:Schiltern
WEBSITE:http://netzwerk.arche-noah.at/index.php?article_id=9&eid=818
URL:http://netzwerk.arche-noah.at/index.php?article_id=9&eid=818
CONTACT:
ORGANIZER:Arche Noah
ATTACH;FMTTYPE="image/jpeg":http://storage.ning.com/topology/rest/1.0/
 file/get/122584018?profile=original
ATTENDEE;ROLE=REQ-PARTICIPANT;PARTSTAT=ACCEPTED;RSVP=TRUE;CN=artbeat:h
 ttps://kunsthandwerk.artbeat.at/profile/04jn571ett22n
END:VEVENT
END:VCALENDAR
