BEGIN:VCALENDAR
PRODID:NingEventWidget-v1
VERSION:2.0
METHOD:PUBLISH
BEGIN:VTIMEZONE
TZID:Europe/Vienna
X-LIC-LOCATION:Europe/Vienna
BEGIN:DAYLIGHT
TZOFFSETFROM:+0100
TZOFFSETTO:+0200
TZNAME:CEST
DTSTART:19700329T020000
RRULE:FREQ=YEARLY;BYMONTH=3;BYDAY=-1SU
END:DAYLIGHT
BEGIN:STANDARD
TZOFFSETFROM:+0200
TZOFFSETTO:+0100
TZNAME:CET
DTSTART:19701025T030000
RRULE:FREQ=YEARLY;BYMONTH=10;BYDAY=-1SU
END:STANDARD
END:VTIMEZONE
BEGIN:VEVENT
UID:6444107:Event:14794
DTSTAMP:20260424T223427Z
SUMMARY:Böllerbauer Kreativmarkt
DESCRIPTION:*Aussteller mit Ihren handgefertigten Unikaten\n*Sozial un
 d ökologisch wertvolle Produkte\n*Gaumenfreuden aus nah und fern\nKre
 ativmarkt im wunderschönen Ambiente des Böllerbauers. \n\n\n\n\n\nW
 eitere Informationen erhalten Sie unter https://kunsthandwerk.artbeat.
 at/events/b-llerbauer-kreativmarkt
DTSTART;TZID=Europe/Vienna:20130824T000000
DTEND;TZID=Europe/Vienna:20130825T235900
CATEGORIES:kreativmarkt
LOCATION:Niederösterreich, Haag, Salaberg
WEBSITE:http://boellerbauer.at/index.php?id=109
URL:http://boellerbauer.at/index.php?id=109
CONTACT:0688/8664536 Alois
ORGANIZER:Böllerbauer
ATTACH;FMTTYPE="image/jpeg":http://storage.ning.com/topology/rest/1.0/
 file/get/122584163?profile=original
ATTENDEE;ROLE=REQ-PARTICIPANT;PARTSTAT=ACCEPTED;RSVP=TRUE;CN="Martina 
 Hofmair":https://kunsthandwerk.artbeat.at/profile/mmmartinique
END:VEVENT
END:VCALENDAR
