BEGIN:VCALENDAR
PRODID:NingEventWidget-v1
VERSION:2.0
METHOD:PUBLISH
BEGIN:VTIMEZONE
TZID:Europe/Vienna
X-LIC-LOCATION:Europe/Vienna
BEGIN:DAYLIGHT
TZOFFSETFROM:+0100
TZOFFSETTO:+0200
TZNAME:CEST
DTSTART:19700329T020000
RRULE:FREQ=YEARLY;BYMONTH=3;BYDAY=-1SU
END:DAYLIGHT
BEGIN:STANDARD
TZOFFSETFROM:+0200
TZOFFSETTO:+0100
TZNAME:CET
DTSTART:19701025T030000
RRULE:FREQ=YEARLY;BYMONTH=10;BYDAY=-1SU
END:STANDARD
END:VTIMEZONE
BEGIN:VEVENT
UID:6444107:Event:152136
DTSTAMP:20260425T141017Z
SUMMARY:BURG.STADT.FEST Heidenreichstein
DESCRIPTION:Das BURG.STADT.FEST in Heidenreichstein bietet neben dem s
 eit Jahren beliebten Kunsthandwerksmarkt eine Genussmeile mit regional
 en kulinarischen Spezialitäten, den Fischmarkt und den Trachtensonnta
 g. \nAbgerundet wird das Fest mit einem Konzert im Festzelt am Samsta
 g Abend sowie einer Feldmesse am Trachtensonntag.\nFür noch mehr Kuns
 t und Kultur sorgt natürlich auch die lange Nacht der Museen\n\nWeite
 re Informationen erhalten Sie unter https://kunsthandwerk.artbeat.at/e
 vents/burg-stadt-fest-heidenreichstein
DTSTART;TZID=Europe/Vienna:20231007T000000
DTEND;TZID=Europe/Vienna:20231008T235900
CATEGORIES:kunsthandwerksmarkt, stadtfest
LOCATION:Niederösterreich
WEBSITE:https://goo.gl/maps/6vP9q1iaR7hvRCNc8
URL:https://goo.gl/maps/6vP9q1iaR7hvRCNc8
CONTACT:kunsthandwerk@w4creaktiv.at
ORGANIZER:Heidenreichstein CreAktiv
ATTACH;FMTTYPE="image/jpeg":https://storage.ning.com/topology/rest/1.0
 /file/get/11021371883?profile=original
ATTENDEE;ROLE=REQ-PARTICIPANT;PARTSTAT=ACCEPTED;RSVP=TRUE;CN="Sandra F
 ossalovara":https://kunsthandwerk.artbeat.at/profile/SandraFossalovara
END:VEVENT
END:VCALENDAR
