BEGIN:VCALENDAR
PRODID:NingEventWidget-v1
VERSION:2.0
METHOD:PUBLISH
BEGIN:VTIMEZONE
TZID:Europe/Vienna
X-LIC-LOCATION:Europe/Vienna
BEGIN:DAYLIGHT
TZOFFSETFROM:+0100
TZOFFSETTO:+0200
TZNAME:CEST
DTSTART:19700329T020000
RRULE:FREQ=YEARLY;BYMONTH=3;BYDAY=-1SU
END:DAYLIGHT
BEGIN:STANDARD
TZOFFSETFROM:+0200
TZOFFSETTO:+0100
TZNAME:CET
DTSTART:19701025T030000
RRULE:FREQ=YEARLY;BYMONTH=10;BYDAY=-1SU
END:STANDARD
END:VTIMEZONE
BEGIN:VEVENT
UID:6444107:Event:158541
DTSTAMP:20260424T083023Z
SUMMARY:BURGADVENT auf Aggstein
DESCRIPTION:BURGADVENT auf Aggstein 30.10.- 01.11. Halloween-Special 6
 .-8. & 13.-15. & 20.-22. November 2026\njeweils Freitag von 14-20 Uhr,
  Samstag & Sonntag 10-20 Uhr\nAn vier Wochenenden verzaubert die Burg 
 Aggstein mit Halloween-Mystik, Allerheiligen-Besinnung und frÃ¼hem Adv
 entzauber. Wenn die Lichter angehen, beginnt die Vorfreude auf Weihnac
 hten â€“ mit erlesenem Kunsthandwerk im mittelalterlichen Flair.\n HIG
 HLIGHTS: 100 Aussteller von Kunsthandwerk & Kulinarik Jeden Freitag gi
 btÂ´s um 18 Uhr Feuerwerk MÃ¤rchenzeit mit Dena Seidl Schmieden im Bru
 nnenhof Die WÃ¶lfe zu Dunkelstein bewachen die Burg in historischen RÃ
 ¼stungen Nostalgie-Kinderkarussel & BogenschieÃŸen\n\nwww.ruineaggstei
 n.at\n\nWeitere Informationen erhalten Sie unter https://kunsthandwerk
 .artbeat.at/events/burgadvent-auf-aggstein-10
DTSTART;TZID=Europe/Vienna:20261030T140000
DTEND;TZID=Europe/Vienna:20261122T200000
CATEGORIES:adventmarkt
LOCATION:Wachau, NiederÃ¶sterreich
WEBSITE:https://www.ruineaggstein.at/veranstaltungen/burgadvent
URL:https://www.ruineaggstein.at/veranstaltungen/burgadvent
CONTACT:+43 (0) 650-8350 804; ch.jaeger@ruineaggstein.at
ORGANIZER;CN="Christine JÃ¤ger":https://kunsthandwerk.artbeat.at/profi
 le/ChristineJaeger
ATTACH;FMTTYPE="image/jpeg":https://storage.ning.com/topology/rest/1.0
 /file/get/31101305453?profile=original
ATTENDEE;ROLE=REQ-PARTICIPANT;PARTSTAT=ACCEPTED;RSVP=TRUE;CN="Christin
 e JÃ¤ger":https://kunsthandwerk.artbeat.at/profile/ChristineJaeger
END:VEVENT
END:VCALENDAR
